BEGIN:VCALENDAR
VERSION:2.0
PRODID:-//Uber Adventures - ECPv6.15.20//NONSGML v1.0//EN
CALSCALE:GREGORIAN
METHOD:PUBLISH
X-ORIGINAL-URL:https://uberadventures.net
X-WR-CALDESC:Events for Uber Adventures
REFRESH-INTERVAL;VALUE=DURATION:PT1H
X-Robots-Tag:noindex
X-PUBLISHED-TTL:PT1H
BEGIN:VTIMEZONE
TZID:America/Los_Angeles
BEGIN:DAYLIGHT
TZOFFSETFROM:-0800
TZOFFSETTO:-0700
TZNAME:PDT
DTSTART:20140309T100000
END:DAYLIGHT
BEGIN:STANDARD
TZOFFSETFROM:-0700
TZOFFSETTO:-0800
TZNAME:PST
DTSTART:20141102T090000
END:STANDARD
BEGIN:DAYLIGHT
TZOFFSETFROM:-0800
TZOFFSETTO:-0700
TZNAME:PDT
DTSTART:20150308T100000
END:DAYLIGHT
BEGIN:STANDARD
TZOFFSETFROM:-0700
TZOFFSETTO:-0800
TZNAME:PST
DTSTART:20151101T090000
END:STANDARD
BEGIN:DAYLIGHT
TZOFFSETFROM:-0800
TZOFFSETTO:-0700
TZNAME:PDT
DTSTART:20160313T100000
END:DAYLIGHT
BEGIN:STANDARD
TZOFFSETFROM:-0700
TZOFFSETTO:-0800
TZNAME:PST
DTSTART:20161106T090000
END:STANDARD
END:VTIMEZONE
BEGIN:VEVENT
DTSTART;VALUE=DATE:20151002
DTEND;VALUE=DATE:20151005
DTSTAMP:20260425T085725
CREATED:20150602T192557Z
LAST-MODIFIED:20220914T041615Z
UID:1725-1443744000-1444003199@uberadventures.net
SUMMARY:Canyon Rescue Course (L4) ... Moab\, UT
DESCRIPTION:Canyon Rescue Course (L4) …Moab\, UT!  (This class is full\, please see other dates)\nTrain Hard.  Plan Well.  Be Safe.\n                                                    …but accidents still happen.\nThis Canyon Rescue Course by Uber Adventures teaches the skills necessary to perform immediate\, in-canyon self-rescues\, partner rescues\, and how to assist with group emergencies … all with your groups’ normal rack-and-pack (the minimal gear you should carry on your harnesses and in your packs.) \nBoost your confidence and fill your mental toolbox with skills to handle technical emergencies. \nThis course not only teaches you the skills and methods necessary to execute a variety of rescue procedures\, but it provides the impetus for critical thinking through an emergency. \nHow would you help a canyoneer stuck on a rope?  How would you help an unconscious canyoneer stuck on a rope?  How quickly could you figure out how to convert a static block to a lowering system?  Could you haul a rappeller back to the top of a drop by yourself?  Have you ever been in a canyon\, assessing a fictional problem and felt helpless?  Are your responsibilities in a canyoneering event greater because you’re the leader/organizer?  Would you like to be a more valuable team member?  This course is vital for not only canyoneering leaders\, but also for conscientious recreational canyoneers who value their own safety and the safety of their party. \nWith the technical skills presented in this course\, you could prevent the need for calling in an expensive Search And Rescue team\, avoid putting rescuers at risk\, avoid spending the night in a canyon\, and continue a canyon descent with a non-critically injured teammate. \nPrerequisite:  Participants should have some advanced formal canyoneering-specific training.  This course builds on the skills taught in the Uber Adventures’ 3-day Technical Canyoneering Course (L1)\, the Advanced Canyoneering Course (L2) AND the Canyon Management Course (L3).  While we are not requiring the completion of each of those courses as a prerequisite\, those who have had advanced formal canyoneering training will find it easier to ‘keep-up’ with this curriculum.  If you’re not sure if this is the course for you\, please give us a call and we can discuss your skills and training. \nThe topics and skills covered will include: \n\nKnots\, Rope Grabs & Progress Capture Methods\nAnchors\, Rigging & Friction Dynamics for Rescue\nMechanical Advantage and Haul Systems\nConverting Static Rigging to Haul or Lower\nAssisted Rappel & Tandem Rappel Techniques\nHero Rescue\, Balancier Lift\nRappelling on a Tensioned Rope\nGuide Ropes\, Tag Lines\, Belays\nCut-and-Lower Procedures\nSpecial Ascending Techniques for Rescue\nPick-Off Procedures Scenario\nConsiderations for musculoskeletal injuries\n\nInstructor: Klaus Gerhart\, Steve Morga\nACA & ACGA Certified Guides and Instructors \n \nRead company/course policies here.
URL:https://uberadventures.net/course/canyon-rescue-course-l4-2/
LOCATION:Rotary Park\, 680 E Mill Creek Dr\, Moab\, UT\, 84532
CATEGORIES:Training
ATTACH;FMTTYPE=image/jpeg:https://uberadventures.net/wp-content/uploads/2015/01/Canyon-Rescue-Course-Pic-for-Uber-Adventures-1100x620.jpg
END:VEVENT
BEGIN:VEVENT
DTSTART;VALUE=DATE:20151016
DTEND;VALUE=DATE:20151019
DTSTAMP:20260425T085725
CREATED:20150716T183254Z
LAST-MODIFIED:20220914T041542Z
UID:1803-1444953600-1445212799@uberadventures.net
SUMMARY:Technical Canyoneering Course (L1)
DESCRIPTION:3-Day Technical Canyoneering Course (L1)\nLearn to Canyoneer!\nCanyoneering and Canyoning are terms used to describe an adventure sport that combines hiking\, wading\, swimming\, jumping\, sliding\, boulder-hopping\, scrambling\, rock-climbing\, sometimes packrafting and always rappelling — often over waterfalls. \nCanyoneering is an emerging adventure sport in the US\, and has grown significantly in popularity over the past decade.  This sport has unique risks and requires a very specific set of technical skills to enjoy it safely.  Rock-climbing\, caving\, mountaineering and swift water training teach related skills for your ‘toolbox’\, but Canyoneering has become highly specialized\, and much of the gear and many of the techniques of Canyoneering are distinctly different from those of the other sports …and\, that’s where we come in! \nPrerequisite: None \nThis is a beginner to intermediate course which teaches the skills necessary to safely descend canyons as part of a group (being a competent participant and the knowledge to recognize and implement safe canyon practices). This course is designed to quickly get the beginner up-to-speed on basics\, to give both the rookie and intermediate canyoneer new tools for his/her toolbox\, and will help intermediate cayoneers refine their current skill set!  The topics and skills covered will include: \n\nKnots\, Bends and Hitches\nCanyon Rating System\nRules\, Ethics\, Style\, Communication and Courtesy\nSpecific Gear Choices\, Requirements\, Use and Care\nBelays\, Lowering and Handlines\nNatural\, Artificial\, Transient & Human Anchors\nStatic and Contingency Riggings\nRope Deployment\, Coiling\, Bagging and Etiquette\nRappelling Techniques & On-Rope Skills \n(Adding Friction Pre-rappel\, Mid-rappel\, Locking Off\, etc.)\nSpecialized Rappelling Techniques \n(Hard Starts\, Soft Starts\, Free-Hanging\, Over-Hanging\, etc.)\nBasic Climbing & Down Climbing Skills \n(Bridging\, Stemming\, Partner Assists\, Partner Captures\, etc.)\nSafety Checking and Basic Self-Rescue\nAnd\, within each of these broad subjects are a myriad of skills and tools.\n\nHost:  Klaus Gerhart          Instructors:  Klaus Gerhart\, Collin Goebel \nThe cost of this course is $395. (The course fee is non-refundable\, but may be put toward a future class during the same calendar year if 30 days notice are given\, cancelling your participation in this course.)  Please read more course/company policies here. \nThis class will begin on the evening of Day 1 (7:00pm-9:30pm) at the new HQ for UBER Adventures\, 21901 Devonshire St\, Chatsworth\, CA 91311\, with an orientation\, introduction\, and presentation emphasizing the canyon rating system\, gear\, weather\, canyon topography\, safety considerations\, and a rundown of the logistics for the rest of the course … and getting to know each other.  The class will reconvene on Days 2 and 3 at Stoney Point Park in Chatsworth and will run from 7am-5:00pm both days. \nRequired gear for this course is a harness and a helmet (I can loan these out if you don’t have them … and I will offer a 10% discount for any gear bought before/during/directly after the course)\, and I’ll also be loaning out carabiners\, descenders\, tethers\, foot loops\, prussiks\, etc.  Feel free to borrow my gear for this course\, until you determine what your needs will be.
URL:https://uberadventures.net/course/technical-canyoneering-course-6/
LOCATION:Stoney Point Park\, 10900 Topanga Canyon Blvd\, Chatsworth\, CA\, 91311\, United States
CATEGORIES:Training
ATTACH;FMTTYPE=image/jpeg:https://uberadventures.net/wp-content/uploads/2015/05/Technical-Canyoneering-Course-1100x619.jpg
END:VEVENT
BEGIN:VEVENT
DTSTART;VALUE=DATE:20151018
DTEND;VALUE=DATE:20151019
DTSTAMP:20260425T085725
CREATED:20150716T180636Z
LAST-MODIFIED:20220914T041531Z
UID:1799-1445126400-1445212799@uberadventures.net
SUMMARY:Learn to Rappel Class
DESCRIPTION:Learn to Rappel Class\nInterested in learning to Rappel & Canyoneer?\nDid the movie 127 Hours intrigue you?!\nThis rappelling class is a very basic introduction to rappelling\, safety checks\, communication and fireman belaying (bottom belaying). This class is in no way a substitute for the full Technical Canyoneering Course. This class will\, however\, provide you with an introduction to rappelling\, safety checks\, communication and bottom belays that can make taking the full course more beneficial. \nWe will spend the whole day rappelling at Stoney Point in Chatsworth. \nSingle strand on 8.3mm and 9.2mm static canyoneering ropes! \nWe will also bring a couple of descenders for you to try:  Piranas and Figure 8’s. \nThat’s all we’re going to do … all day. So … \n\nIf you don’t know how to rappel .. come learn.\nIf you want to try out different descenders and ropes .. come experiment.\nIf you know how to rappel .. come practice.\n\nThis Learn to Rappel Class will last all day .. 7am-3:30pm so bring lunch &water!  You will be required to sign a release of liability and assumption of risk. You may participate all day or for a few hours … it’s YOUR day. \nGear for this class will be provided (however\, if you have a climbing harness\, any kind of helmet [climbing\, bicycling\, kayaking\, snow boarding\, etc]\, a pair of gloves [mechanics\, cycling\, weightlifting\, garden\, etc.] … please bring your own!)  And feel free to bring any gear you have questions about … we’re happy to show you how to use your own descender and to answer any/all gear questions. \nWe will be scrambling around a lot as we rappel\, scramble back up\, rappel\, scramble back up\, rappel\, scramble back up\, etc. ….so wear some comfortable shoes with good ‘grip’ .. trail\, running\, approach shoes all work well (don’t wear rock climbing shoes). Bring sunscreen\, sunglasses\, maybe a hat\, and clothes/layers appropriate for the forecast. \nThis Learn to Rappel Class is open to everyone .. so invite your friends\, your teenage kids\, your spouse to join!  If you’d like to organize a private event for your students\, colleagues\, friends or for a family reunion\, just give us a shout!  This event also is a tremendous team-building activity! \nThe cost for this class is only $40 per person!!  The $40 is non-refundable but may be put toward a future rappelling class in the same calendar year if 30 days notice are given cancelling your participation on this date.  Read more company/course policies here. \nEvent Host/Organizer:  Klaus Gerhart         Instructors:  Collin Goebel\, Francisco Camberos \n________________________ \nWhat people are saying about this class: \n“What a fabulous day! Great group of people and awesome instructor! You have got to meet Klaus! If you haven’t tried this\, you’re missing out. Klaus is all about safety first\, but teaches in a way that makes you count the seconds to rappel and canyoneer! I’d rate this as a 15 out of 10! Can’t wait to see what else he’s cooking up. Thanks to Jason for his assistance!”  -C- (Carmen B 2/2/13) \n“Best Meetup I’ve ever been to.  What a great group of people .. Klaus encourages us all to support one another and we learned how to care for each others’ safety!  I look forward to more adventure and instruction!  Thanks Klaus\, I loved every minute of it.”  -Lynda- \n“Had a blast!  Met very cool people.  Klaus is a great instructor\, super supportive and his assistant(s) are knowledgeable and patient!  Can’t wait to do it again.”  -Aurora-
URL:https://uberadventures.net/course/learn-to-rappel-class-8/
LOCATION:Stoney Point Park\, 10900 Topanga Canyon Blvd\, Chatsworth\, CA\, 91311\, United States
CATEGORIES:Training
ATTACH;FMTTYPE=image/jpeg:https://uberadventures.net/wp-content/uploads/2015/05/Rappelling-1100x620.jpg
END:VEVENT
END:VCALENDAR