BEGIN:VCALENDAR
VERSION:2.0
PRODID:-//Uber Adventures - ECPv6.15.20//NONSGML v1.0//EN
CALSCALE:GREGORIAN
METHOD:PUBLISH
X-WR-CALNAME:Uber Adventures
X-ORIGINAL-URL:https://uberadventures.net
X-WR-CALDESC:Events for Uber Adventures
REFRESH-INTERVAL;VALUE=DURATION:PT1H
X-Robots-Tag:noindex
X-PUBLISHED-TTL:PT1H
BEGIN:VTIMEZONE
TZID:America/Denver
BEGIN:DAYLIGHT
TZOFFSETFROM:-0700
TZOFFSETTO:-0600
TZNAME:MDT
DTSTART:20150308T090000
END:DAYLIGHT
BEGIN:STANDARD
TZOFFSETFROM:-0600
TZOFFSETTO:-0700
TZNAME:MST
DTSTART:20151101T080000
END:STANDARD
BEGIN:DAYLIGHT
TZOFFSETFROM:-0700
TZOFFSETTO:-0600
TZNAME:MDT
DTSTART:20160313T090000
END:DAYLIGHT
BEGIN:STANDARD
TZOFFSETFROM:-0600
TZOFFSETTO:-0700
TZNAME:MST
DTSTART:20161106T080000
END:STANDARD
BEGIN:DAYLIGHT
TZOFFSETFROM:-0700
TZOFFSETTO:-0600
TZNAME:MDT
DTSTART:20170312T090000
END:DAYLIGHT
BEGIN:STANDARD
TZOFFSETFROM:-0600
TZOFFSETTO:-0700
TZNAME:MST
DTSTART:20171105T080000
END:STANDARD
END:VTIMEZONE
BEGIN:VEVENT
DTSTART;VALUE=DATE:20160109
DTEND;VALUE=DATE:20160111
DTSTAMP:20260425T043702
CREATED:20151027T012320Z
LAST-MODIFIED:20151027T015946Z
UID:1921-1452297600-1452470399@uberadventures.net
SUMMARY:Advanced Canyoneering Course (L2)
DESCRIPTION:Advanced Canyoneering Course (L2)\nThis course is designed to provide students with the tools needed to jump to the next level of technical skill and become competent and safe canyoneers in ALL classes of canyons and touches on techniques and skills for Canyon Leader (L3) and Canyon Rescue (L4). The practical experience that you gain during this course will give you the knowledge and confidence to tackle advanced canyon obstacles and many unexpected situations. This extremely popular curriculum has set the standard by which all other courses and curriculums may be judged. This course was designed primarily to meet the needs of recreational canyoneers\, but also forms the training foundation for those planning to seek certification as a Canyon Leader (L3) or Professional Canyon Guide (L5). \nPrerequisite: Uber Adventures’ 3-day Technical Canyoneering Course or Instructor permission. Since this Two-Day Advanced Canyoneering Course builds upon the skills and techniques presented in our 3-Day Technical Canyoneering Course\, you must have that training or extensive personal experience to be admitted to this class. \nThe topics covered include: \n\nEfficient Rope Management\nAdvanced Knots & Hitches\nRetrievable/Releasable Anchor Systems\nTransient Anchors\nArtificial Anchors Installation & Inspection\nAdvanced Rope Deployment Methods\nMulti-Pitch Rappels\nSimul Rappels\nAdvanced Rope Work for Traverses/Re-Belays\nGuided Rappels & Tensioning Systems\nDeviations/Re-Directs\n3 Ascending Methods & Converting to Rappel\nTransitioning on top of Ascend\nPothole Escape Techniques\nBasics of Mechanical Advantage\nGroup Dynamics and Leadership\n\nBasic personal gear is required for this course: Harness\, Helmet\, Rappel Device\, Safety Tether\, Multiple Locking HMS Carabiners\, 48″ sling/runner/footloop\, prusik loop. And any mechanical ascenders you would like to learn how to use (Ropeman II recommended … or Basic\, Micro\, etc .. bring them.)  I will provide Ropeman II’s for training/practice!  (Uber Adventures also offers a 10% discount off all gear purchased before/during/after this course!) \nTuition for this 2-Day Advanced Technical Canyoneering Course is $395 per individual. A $100 non-refundable deposit will reserve your space in this class.  While the deposit is non-transferrable and non-refundable\, it may be put toward a future course in the same calendar year if 30 days notice are given\, cancelling your participation.  Read more company/course policies here. \nIncluded with tuition is all instruction and all group Canyoneering equipment\, i.e.: ropes\, webbing\, rope bags\, rapides\, rigging\, etc. … and a Certificate of Completion!! \nWarning: The activities in this course have been found to be addictive. Only those people prepared for ultimate adventure and nonstop fun need attend! \nInstructor: Klaus Gerhart – ACE (Association for Canyoneering Education) Master Instructor/Certified Guide\, American Canyon Guides Association (ACGA) Certified Guide\, Officer and Instructor\, Certified Tactical Rappel Master\, Wilderness First Responder\, Swiftwater Rescue Technician\, Technical Rope Rescue Technician\, Map & Compass Navigation Instructor\, trained Whitewater Rafting Guide\, former instructor for Sierra Club’s Wilderness Travel Course\, and a Master Educator for Leave No Trace wilderness ethics.
URL:https://uberadventures.net/course/advanced-canyoneering-course-3/
LOCATION:Stoney Point Park\, 10900 Topanga Canyon Blvd\, Chatsworth\, CA\, 91311\, United States
CATEGORIES:Training
ATTACH;FMTTYPE=image/jpeg:https://uberadventures.net/wp-content/uploads/2015/05/Uber-Adventures-Canyoneering-S1.jpg
END:VEVENT
BEGIN:VEVENT
DTSTART;TZID=America/Denver:20160115T190000
DTEND;TZID=America/Denver:20160117T170000
DTSTAMP:20260425T043702
CREATED:20151027T004052Z
LAST-MODIFIED:20151027T004052Z
UID:1916-1452884400-1453050000@uberadventures.net
SUMMARY:Technical Canyoneering Course (L1)
DESCRIPTION:3-Day Technical Canyoneering Course (L1)\nLearn to Canyoneer!\nCanyoneering and Canyoning are terms used to describe an adventure sport that combines hiking\, wading\, swimming\, jumping\, sliding\, boulder-hopping\, scrambling\, rock-climbing\, sometimes packrafting and always rappelling — often over waterfalls. \nCanyoneering is an emerging adventure sport in the US\, and has grown significantly in popularity over the past decade.  This sport has unique risks and requires a very specific set of technical skills to enjoy it safely.  Rock-climbing\, caving\, mountaineering and swift water training teach related skills for your ‘toolbox’\, but Canyoneering has become highly specialized\, and much of the gear and many of the techniques of Canyoneering are distinctly different from those of the other sports …and\, that’s where we come in! \nPrerequisite: None \nThis is a beginner to intermediate course which teaches the skills necessary to safely descend canyons as part of a group (being a competent participant and the knowledge to recognize and implement safe canyon practices). This course is designed to quickly get the beginner up-to-speed on basics\, to give both the rookie and intermediate canyoneer new tools for his/her toolbox\, and will help intermediate cayoneers refine their current skill set!  The topics and skills covered will include: \n\nKnots\, Bends and Hitches\nCanyon Rating System\nRules\, Ethics\, Style\, Communication and Courtesy\nSpecific Gear Choices\, Requirements\, Use and Care\nBelays\, Lowering and Handlines\nNatural\, Artificial\, Transient & Human Anchors\nStatic and Contingency Riggings\nRope Deployment\, Coiling\, Bagging and Etiquette\nRappelling Techniques & On-Rope Skills \n(Adding Friction Pre-rappel\, Mid-rappel\, Locking Off\, etc.)\nSpecialized Rappelling Techniques \n(Hard Starts\, Soft Starts\, Free-Hanging\, Over-Hanging\, etc.)\nBasic Climbing & Down Climbing Skills \n(Bridging\, Stemming\, Partner Assists\, Partner Captures\, etc.)\nSafety Checking and Basic Self-Rescue\nAnd\, within each of these broad subjects are a myriad of skills and tools.\n\nHost:  Klaus Gerhart          Instructors:  Klaus Gerhart\, Collin Goebel \nThe cost of this course is $395. (The course fee is non-refundable\, but may be put toward a future class during the same calendar year if 30 days notice are given\, cancelling your participation in this course.)  Please read more course/company policies here. \nThis class will begin on the evening of Day 1 (7:00pm-9:30pm) at the new HQ for UBER Adventures\, 21901 Devonshire St\, Chatsworth\, CA 91311\, with an orientation\, introduction\, and presentation emphasizing the canyon rating system\, gear\, weather\, canyon topography\, safety considerations\, and a rundown of the logistics for the rest of the course … and getting to know each other.  The class will reconvene on Days 2 and 3 at Stoney Point Park in Chatsworth and will run from 7am-5:00pm both days. \nRequired gear for this course is a harness and a helmet (I can loan these out if you don’t have them … and I will offer a 10% discount for any gear bought before/during/directly after the course)\, and I’ll also be loaning out carabiners\, descenders\, tethers\, foot loops\, prussiks\, etc.  Feel free to borrow my gear for this course\, until you determine what your needs will be.
URL:https://uberadventures.net/course/technical-canyoneering-course-8/
LOCATION:Uber Adventures\, 21901 Devonshire St\, Chatsworth\, CA\, 91311\, United States
CATEGORIES:Training
ATTACH;FMTTYPE=image/jpeg:https://uberadventures.net/wp-content/uploads/2015/05/Technical-Canyoneering-Course-1100x619.jpg
END:VEVENT
BEGIN:VEVENT
DTSTART;VALUE=DATE:20160117
DTEND;VALUE=DATE:20160118
DTSTAMP:20260425T043702
CREATED:20151120T203840Z
LAST-MODIFIED:20151120T203840Z
UID:1972-1452988800-1453075199@uberadventures.net
SUMMARY:Learn to Rappel Class
DESCRIPTION:Learn to Rappel Class\nInterested in learning to Rappel & Canyoneer?\nDid the movie 127 Hours intrigue you?!\nThis rappelling class is a very basic introduction to rappelling\, safety checks\, communication and fireman belaying (bottom belaying). This class is in no way a substitute for the full Technical Canyoneering Course. This class will\, however\, provide you with an introduction to rappelling\, safety checks\, communication and bottom belays that can make taking the full course more beneficial. \nWe will spend the whole day rappelling at Stoney Point in Chatsworth. \nSingle strand on 8.3mm and 9.2mm static canyoneering ropes! \nWe will also bring a couple of descenders for you to try:  Piranas and Figure 8’s. \nThat’s all we’re going to do … all day. So … \n\nIf you don’t know how to rappel .. come learn.\nIf you want to try out different descenders and ropes .. come experiment.\nIf you know how to rappel .. come practice.\n\nThis Learn to Rappel Class will last all day .. 7am-3:30pm so bring lunch &water!  You will be required to sign a release of liability and assumption of risk. You may participate all day or for a few hours … it’s YOUR day. \nGear for this class will be provided (however\, if you have a climbing harness\, any kind of helmet [climbing\, bicycling\, kayaking\, snow boarding\, etc]\, a pair of gloves [mechanics\, cycling\, weightlifting\, garden\, etc.] … please bring your own!)  And feel free to bring any gear you have questions about … we’re happy to show you how to use your own descender and to answer any/all gear questions. \nWe will be scrambling around a lot as we rappel\, scramble back up\, rappel\, scramble back up\, rappel\, scramble back up\, etc. ….so wear some comfortable shoes with good ‘grip’ .. trail\, running\, approach shoes all work well (don’t wear rock climbing shoes). Bring sunscreen\, sunglasses\, maybe a hat\, and clothes/layers appropriate for the forecast. \nThis Learn to Rappel Class is open to everyone .. so invite your friends\, your teenage kids\, your spouse to join!  If you’d like to organize a private event for your students\, colleagues\, friends or for a family reunion\, just give us a shout!  This event also is a tremendous team-building activity! \nThe cost for this class is only $45 per person!!  The $45 is non-refundable but may be put toward a future rappelling class in the same calendar year if 30 days notice are given cancelling your participation on this date.  Read more company/course policies here. \nEvent Host/Organizer:  Klaus Gerhart         Instructors:  Collin Goebel\, Jeremy Eng \n________________________ \nWhat people are saying about this class: \n“What a fabulous day! Great group of people and awesome instructor! You have got to meet Klaus! If you haven’t tried this\, you’re missing out. Klaus is all about safety first\, but teaches in a way that makes you count the seconds to rappel and canyoneer! I’d rate this as a 15 out of 10! Can’t wait to see what else he’s cooking up. Thanks to Jason for his assistance!”  -C- (Carmen B 2/2/13) \n“Best Meetup I’ve ever been to.  What a great group of people .. Klaus encourages us all to support one another and we learned how to care for each others’ safety!  I look forward to more adventure and instruction!  Thanks Klaus\, I loved every minute of it.”  -Lynda- \n“Had a blast!  Met very cool people.  Klaus is a great instructor\, super supportive and his assistant(s) are knowledgeable and patient!  Can’t wait to do it again.”  -Aurora-
URL:https://uberadventures.net/course/learn-to-rappel-class-2/
LOCATION:Stoney Point Park\, 10900 Topanga Canyon Blvd\, Chatsworth\, CA\, 91311\, United States
CATEGORIES:Training
ATTACH;FMTTYPE=image/jpeg:https://uberadventures.net/wp-content/uploads/2015/05/Rappelling-1100x620.jpg
END:VEVENT
BEGIN:VEVENT
DTSTART;VALUE=DATE:20160123
DTEND;VALUE=DATE:20160125
DTSTAMP:20260425T043702
CREATED:20151027T020240Z
LAST-MODIFIED:20151027T021116Z
UID:1923-1453507200-1453679999@uberadventures.net
SUMMARY:Canyon Leader Course (L3)
DESCRIPTION:Canyon Leader Course (L3)\nImprove your skills and expand your ‘toolbox’!\nUber Adventures’ Canyon Leader Course (L3) is designed to prepare some for Leading Canyons\, and others for an improved toolbox of skills; specifically providing the next level of skills training through technical instruction and experiential practice.  While these tools are a vital component for any active canyoneer\, they are imperative for anyone leading rookies\, kids\, family or friends into a canyon.  This course provides strategic training for unexpected technical and group management challenges … when things don’t go quite as planned! \nWhile this course is designed primarily to meet the needs of recreational canyoneers\, it also serves as a bridge between the Advanced Canyoneering Course and the Canyon Rescue Course\, and forms the training foundation for those planning to seek certification as a Professional Canyon Guide! \nSkills covered include: \n\nAlternate Guided Rappel Options to keep people dry\nGroup Gear Choices & Distribution\, Pack Management\nStrand Isolation and Leapfrogging for speeding things up\nStatic Courtesy Rappels to make hard-starts easier\nDynamic Courtesy Rappels to make super-hard-starts safer and easier\nLowering Systems for emergencies and speed\nPre-Rigged Rappels and Rigging Kids for Rappel\nStatic & Dynamic Edge Protection to increase rope life\nDirect Top Belays\, Handlines and Sequencing\nPassing Knots on Ascend and Rappel\nConverting Static Block to Lowering System for assist or rescue\nIsolating In-Field Rope Damage (Core Shot)\nConstructing a Swiss Seat or Swami for rescue or gear failure\nRappelling on a Munter for emergencies\nAdvanced Friction Options\n\nPrerequisites: Since this course builds upon the skills and techniques presented in our Technical Canyoneering Course AND our Advanced Canyoneering Course\, we recommend that you’ve either taken both courses or have significant relevant personal experience before taking this class (please inquire if you’re unsure if this is the correct course for your current skill set). \nRequired Gear: Harness\, Helmet\, Rappel Device\, Figure 8 for Rigging\, Gloves\, 5-6 HMS Screwgate Carabiners\, 48″ Sling or Foot Loop\, Personal Safety Tether/Lanyard\, Prusik Loop\, Ascender(s)\, 20′ Cordelette or Canyon Cordelette (and appropriate shoes and pack). \nLogistics: This course will be long days on Saturday and Sunday … most of the course will be held at Stoney Point Park in Chatsworth\, with part of the class\, possibly held at Uber Adventures at 21901 Devonshire St\, Chatsworth\, CA 91311. \nTuition: This Canyon Leader Course (L3) is $395 per individual.  Tuition is non-refundable and non-transferrable but may be put toward a future course in the same calendar year if 30 days notice are given cancelling your participation in this course.  Feel free to post any questions on this event or send me a greeting/e-mail through meetup.  Included with tuition is: A CERTIFICATE OF COMPLETION!! \nInstructor:  Klaus Gerhart \nPlease read the course policies here:  Policies
URL:https://uberadventures.net/course/canyon-leader-course-3/
LOCATION:Stoney Point Park\, 10900 Topanga Canyon Blvd\, Chatsworth\, CA\, 91311\, United States
CATEGORIES:Training
ATTACH;FMTTYPE=image/jpeg:https://uberadventures.net/wp-content/uploads/2015/02/Canyon-Leader-1100x619.jpg
END:VEVENT
END:VCALENDAR