BEGIN:VCALENDAR
VERSION:2.0
PRODID:-//Uber Adventures - ECPv6.15.20//NONSGML v1.0//EN
CALSCALE:GREGORIAN
METHOD:PUBLISH
X-ORIGINAL-URL:https://uberadventures.net
X-WR-CALDESC:Events for Uber Adventures
REFRESH-INTERVAL;VALUE=DURATION:PT1H
X-Robots-Tag:noindex
X-PUBLISHED-TTL:PT1H
BEGIN:VTIMEZONE
TZID:America/Los_Angeles
BEGIN:DAYLIGHT
TZOFFSETFROM:-0800
TZOFFSETTO:-0700
TZNAME:PDT
DTSTART:20160313T100000
END:DAYLIGHT
BEGIN:STANDARD
TZOFFSETFROM:-0700
TZOFFSETTO:-0800
TZNAME:PST
DTSTART:20161106T090000
END:STANDARD
BEGIN:DAYLIGHT
TZOFFSETFROM:-0800
TZOFFSETTO:-0700
TZNAME:PDT
DTSTART:20170312T100000
END:DAYLIGHT
BEGIN:STANDARD
TZOFFSETFROM:-0700
TZOFFSETTO:-0800
TZNAME:PST
DTSTART:20171105T090000
END:STANDARD
BEGIN:DAYLIGHT
TZOFFSETFROM:-0800
TZOFFSETTO:-0700
TZNAME:PDT
DTSTART:20180311T100000
END:DAYLIGHT
BEGIN:STANDARD
TZOFFSETFROM:-0700
TZOFFSETTO:-0800
TZNAME:PST
DTSTART:20181104T090000
END:STANDARD
END:VTIMEZONE
BEGIN:VEVENT
DTSTART;VALUE=DATE:20170929
DTEND;VALUE=DATE:20171002
DTSTAMP:20260423T201701
CREATED:20161206T222542Z
LAST-MODIFIED:20220914T024626Z
UID:2727-1506643200-1506902399@uberadventures.net
SUMMARY:Technical Canyoneering Course (ACE-L1) Moab\, UT
DESCRIPTION:3-Day Technical Canyoneering Course (ACE-L1) – Moab\, UT\nLearn to Canyoneer!\nCanyoneering and Canyoning are terms used to describe an adventure sport that combines hiking\, wading\, swimming\, jumping\, sliding\, boulder-hopping\, scrambling\, rock-climbing\, sometimes packrafting and always rappelling — often over waterfalls. \nCanyoneering is an emerging adventure sport in the US\, and has grown significantly in popularity over the past decade.  This sport has unique risks and requires a very specific set of technical skills to enjoy it safely.  Rock-climbing\, caving\, mountaineering and swift water training teach related skills for your ‘toolbox’\, but Canyoneering has become highly specialized\, and much of the gear and many of the techniques of Canyoneering are distinctly different from those of the other sports …and\, that’s where we come in! \nPrerequisite: None \nThis is a beginner to intermediate course which teaches the skills necessary to safely descend canyons as part of a group (being a competent participant and the knowledge to recognize and implement safe canyon practices). This course is designed to quickly get the beginner up-to-speed on basics\, to give both the rookie and intermediate canyoneer new tools for his/her toolbox\, and will help intermediate cayoneers refine their current skill set!  The topics and skills covered will include: \n\nKnots\, Bends and Hitches\nCanyon Rating System\nRules\, Ethics\, Style\, Communication and Courtesy\nSpecific Gear Choices\, Requirements\, Use and Care\nBelays\, Lowering and Handlines\nNatural\, Artificial\, Transient & Human Anchors\nStatic and Contingency Riggings\nRope Deployment\, Coiling\, Bagging and Etiquette\nRappelling Techniques & On-Rope Skills \n(Adding Friction Pre-rappel\, Mid-rappel\, Locking Off\, etc.)\nSpecialized Rappelling Techniques \n(Hard Starts\, Soft Starts\, Free-Hanging\, Over-Hanging\, etc.)\nBasic Climbing & Down Climbing Skills \n(Bridging\, Stemming\, Partner Assists\, Partner Captures\, etc.)\nSafety Checking and Basic Self-Rescue\nAnd\, within each of these broad subjects are a myriad of skills and tools.\n\nHost:  Klaus Gerhart          Instructors:  Klaus Gerhart\, and team \nThe cost of this course is $395 and includes camping! (The course fee is non-refundable\, but may be put toward a future class during the same calendar year if 30 days notice are given\, cancelling your participation in this course.)  Please read more course/company policies here. \nThis class will begin in Moab at our campsite on Friday evening from 7:00pm-9:30pm and will reconvene each morning (Saturday-Sunday) at 7:00am and will finish around 5:00pm each afternoon\, allowing for some hikes and sight-seeing in the area. Feel free to camp with us\, to get your own camping\, or to stay at a motel … your choice.  (Uber Adventures provides no camping gear.) \nRequired gear for this course is a harness and a helmet (we can loan these out if you don’t have them … and we will offer a 10% discount for any gear bought before/during/directly after the course)\, and we’ll also be loaning out carabiners\, descenders\, tethers\, foot loops\, prussiks\, etc.  Feel free to borrow our gear for this course\, until you determine what your needs will be.
URL:https://uberadventures.net/course/technical-canyoneering-course-ace-l1-moab-2/
LOCATION:Goose Island CG\, Moab\, UT\, United States
CATEGORIES:Training
ATTACH;FMTTYPE=image/jpeg:https://uberadventures.net/wp-content/uploads/2015/05/Technical-Canyoneering-Course-1100x619.jpg
END:VEVENT
BEGIN:VEVENT
DTSTART;VALUE=DATE:20171002
DTEND;VALUE=DATE:20171004
DTSTAMP:20260423T201701
CREATED:20161206T223553Z
LAST-MODIFIED:20220914T024611Z
UID:2732-1506902400-1507075199@uberadventures.net
SUMMARY:Advanced Canyoneering Course (ACE-L2) Moab\, UT
DESCRIPTION:Advanced Canyoneering Course (ACE-L2) Moab\, UT\nThis Advanced Canyoneering Course (ACE-L2) is designed to provide students with the tools needed to jump to the next level of technical skill and become competent and safe canyoneers in ALL classes of canyons and touches on techniques and skills for Canyon Essentials (ACE-L3) and Canyon Rescue (ACE-L4). The practical experience that you gain during this course will give you the knowledge and confidence to tackle advanced canyon obstacles and many unexpected situations. This extremely popular curriculum has set the standard by which all other courses and curriculums may be judged. This course was designed primarily to meet the needs of recreational canyoneers\, but also forms the training foundation for those planning to seek certification as a Professional Canyon Guide (ACE-L5). \nPrerequisite: Uber Adventures’ 3-day Technical Canyoneering Course (ACE-L1) or Instructor permission. Since this Two-Day Advanced Canyoneering Course (ACE-L2) builds upon the skills and techniques presented in our 3-Day Technical Canyoneering Course (ACE-L1)\, you must have that training or extensive personal experience to be admitted to this class. \nThe topics covered include: \n\nEfficient Rope Management\nAdvanced Knots & Hitches\nRetrievable/Releasable Anchor Systems\nTransient Anchors\nArtificial Anchors Installation & Inspection\nAdvanced Rope Deployment Methods\nMulti-Pitch Rappels\nSimul Rappels\nAdvanced Rope Work for Traverses/Re-Belays\nGuided Rappels & Tensioning Systems\nDeviations/Re-Directs\n3 Ascending Methods & Converting to Rappel\nTransitioning on top of Ascend\nPothole Escape Techniques\nBasics of Mechanical Advantage\nGroup Dynamics and Leadership\n\nBasic personal gear is required for this course: Harness\, Helmet\, Rappel Device\, Safety Tether\, Multiple Locking HMS Carabiners\, 48″ sling/runner/footloop\, prusik loop. And any mechanical ascenders you would like to learn how to use (Ropeman II recommended … or Basic\, Micro\, etc .. bring them.)  I will provide Ropeman II’s for training/practice!  (Uber Adventures also offers a 10% discount off all gear purchased before/during/after this course!) \nTuition for this 2-Day Advanced Canyoneering Course (ACE-L2) is $395 per individual and includes camping!  A $100 non-refundable deposit will reserve your space in this class.  While the deposit is non-transferrable and non-refundable\, it may be put toward a future course in the same calendar year if 30 days notice are given\, cancelling your participation.  Read more company/course policies here. \nThis class will begin in Moab at our campsite each morning (Monday-Tuesday) at 7:00am and will finish around 5pm each afternoon. Feel free to camp with us\, to get your own camping\, or to stay at a motel … your choice.  (Uber Adventures provides no camping gear.)  Included with tuition is all instruction and all group Canyoneering equipment\, i.e.: ropes\, webbing\, rope bags\, rapides\, rigging\, etc. … and a Certificate of Completion!! \nWarning: The activities in this course have been found to be addictive. Only those people prepared for ultimate adventure and nonstop fun need attend! \nInstructor: Klaus Gerhart – ACE (Association for Canyoneering Education) Master Instructor/Certified Guide\, American Canyon Guides Association (ACGA) Certified Guide\, Officer and Instructor\, Certified Tactical Rappel Master\, Wilderness First Responder\, Swiftwater Rescue Technician\, Technical Rope Rescue Technician\, Map & Compass Navigation Instructor\, trained Whitewater Rafting Guide\, former instructor for Sierra Club’s Wilderness Travel Course\, and a Master Educator for Leave No Trace wilderness ethics.
URL:https://uberadventures.net/course/advanced-canyoneering-course-ace-l2-moab-2/
LOCATION:Goose Island CG\, Moab\, UT\, United States
CATEGORIES:Training
ATTACH;FMTTYPE=image/jpeg:https://uberadventures.net/wp-content/uploads/2015/05/Uber-Adventures-Canyoneering-S1.jpg
END:VEVENT
BEGIN:VEVENT
DTSTART;VALUE=DATE:20171013
DTEND;VALUE=DATE:20171016
DTSTAMP:20260423T201701
CREATED:20161206T034046Z
LAST-MODIFIED:20220914T024541Z
UID:2661-1507852800-1508111999@uberadventures.net
SUMMARY:Technical Canyoneering Course (ACE-L1) Los Angeles\, CA
DESCRIPTION:3-Day Technical Canyoneering Course (ACE-L1) Los Angeles\, CA\n(…you’re invited to stay an extra day and descend a local canyon with us on Monday!) \nLearn to Canyoneer!\nCanyoneering and Canyoning are terms used to describe an adventure sport that combines hiking\, wading\, swimming\, jumping\, sliding\, boulder-hopping\, scrambling\, rock-climbing\, sometimes packrafting and always rappelling — often over waterfalls. \nCanyoneering is an emerging adventure sport in the US\, and has grown significantly in popularity over the past decade.  This sport has unique risks and requires a very specific set of technical skills to enjoy it safely.  Rock-climbing\, caving\, mountaineering and swift water training teach related skills for your ‘toolbox’\, but Canyoneering has become highly specialized\, and much of the gear and many of the techniques of Canyoneering are distinctly different from those of the other sports …and\, that’s where we come in! \nPrerequisite: None \nThis is a beginner to intermediate course which teaches the skills necessary to safely descend canyons as part of a group (being a competent participant and the knowledge to recognize and implement safe canyon practices). This course is designed to quickly get the beginner up-to-speed on basics\, to give both the rookie and intermediate canyoneer new tools for his/her toolbox\, and will help intermediate cayoneers refine their current skill set!  The topics and skills covered will include: \n\nKnots\, Bends and Hitches\nCanyon Rating System\nRules\, Ethics\, Style\, Communication and Courtesy\nSpecific Gear Choices\, Requirements\, Use and Care\nBelays\, Lowering and Handlines\nNatural\, Artificial\, Transient & Human Anchors\nStatic and Contingency Riggings\nRope Deployment\, Coiling\, Bagging and Etiquette\nRappelling Techniques & On-Rope Skills \n(Adding Friction Pre-rappel\, Mid-rappel\, Locking Off\, etc.)\nSpecialized Rappelling Techniques \n(Hard Starts\, Soft Starts\, Free-Hanging\, Over-Hanging\, etc.)\nBasic Climbing & Down Climbing Skills \n(Bridging\, Stemming\, Partner Assists\, Partner Captures\, etc.)\nSafety Checking and Basic Self-Rescue\nAnd\, within each of these broad subjects are a myriad of skills and tools.\n\nHost:  Klaus Gerhart          Instructors:  Klaus Gerhart and others. \nThe cost of this course is $395. (The course fee is non-refundable\, but may be put toward a future class during the same calendar year if 30 days notice are given\, cancelling your participation in this course.  If 30 days notice are not given\, the remaining balance will be due whether you attend the course or not.)  If you’re traveling to Los Angeles for this course\, please inquire about cheap/free camping/crashing opportunities.  Please read more course/company policies here. \nThis class will begin on the evening of Day 1 (7:00pm-9:30pm) at the new HQ for UBER Adventures\, 21901 Devonshire St\, Chatsworth\, CA 91311\, with an orientation\, introduction\, and presentation emphasizing the canyon rating system\, gear\, weather\, canyon topography\, safety considerations\, and a rundown of the logistics for the rest of the course … and getting to know each other.  The class will reconvene on Days 2 and 3 (Saturday and Sunday) at Stoney Point Park in Chatsworth and will run from 7am-5:00pm both days. \nRequired gear for this course is a harness and a helmet (we can loan these out if you don’t have them … and we offer a 10% discount for any gear bought before/during/directly after the course)\, and we’ll also be loaning out carabiners\, descenders\, tethers\, foot loops\, prussiks\, etc.  Feel free to borrow our gear for this course\, until you determine what your needs will be.
URL:https://uberadventures.net/course/technical-canyoneering-course-ace-l1-los-angeles-ca-9/
LOCATION:Uber Adventures\, 21901 Devonshire St\, Chatsworth\, CA\, 91311\, United States
CATEGORIES:Training
ATTACH;FMTTYPE=image/jpeg:https://uberadventures.net/wp-content/uploads/2015/05/Technical-Canyoneering-Course-1100x619.jpg
END:VEVENT
BEGIN:VEVENT
DTSTART;VALUE=DATE:20171021
DTEND;VALUE=DATE:20171023
DTSTAMP:20260423T201701
CREATED:20170915T221655Z
LAST-MODIFIED:20220914T024526Z
UID:3652-1508544000-1508716799@uberadventures.net
SUMMARY:Map & Compass Navigation
DESCRIPTION:Map & Compass Navigation (aka Orienteering):  The Art of Staying Found\n“I’m pretty sure you can’t get there from here.” –overheard–\nGain confidence in finding your way and knowing where you are whether you’re on-trail or traveling cross-country.  This comprehensive 2-day course covers the essential skills of back-country navigation using the most reliable equipment:  Map & Compass \nYOU are the ‘WHO‘ … we’ll provide the ‘WHAT‘\, ‘WHERE‘\, ‘WHEN‘\, ‘WHY‘ and ‘HOW‘ of Map & Compass Navigation.  In the age of Global Positioning Satellites (and the electronic devices used to access the network … commonly referred to as GPS units)\, why is learning Map & Compass navigation still relevant?  Think of a GPS as a luxury\, and a Map & Compass as a necessity.  Will a GPS work if the batteries die?  Will a GPS work in a canyon?  Will a GPS work when it’s overcast or if under a canopy of trees?  Will a GPS be useful without maps?  The answer to those questions is “probably not!”  While a GPS is a fantastic tool\, it is not as reliable as ye olde map and compass. \nStaying found (or not getting lost) is not an instinct or an innate skill … but it CAN be learned.  \nIn this vital class\, you’ll be trained in and have time to practice the following: \n\nParts of a Compass & how they work together\nMagnetic North and how to use Declination to adjust for True North\nTopographic Map Legend\, Symbols & Contour Lines\nTerrain Recognition for interpreting features\nMicro-Navigation to keeping track of exact location\nDead Reckoning for obscure navigation challenges\nNaismith’s Rule & Backpacker’s Rule for trip preparation and estimating distance travelled\nOrienting a Map in the field\nTaking Bearings/Plotting Bearings\nFinding Location through Triangulation\nLatitude/Longitude vs UTM Coordinates\nTips & Tricks for Navigating without Map & Compass! \n\n[divider colorstyle=”colorstyle_1″ dividerstyle=”style_1″ paddingtop=”” paddingbottom=”” animation=”” ] \nDay 1:  …will be held in our classroom in Chatsworth\, CA 8:00-5:00pm \nDay 2:  …will be held in-the-field near Agua Dulce\, CA (about 20 miles up Hwy 14\, so consider setting up carpools during the class on Day 1)  9:00-2:00pm \n[divider colorstyle=”colorstyle_1″ dividerstyle=”style_1″ paddingtop=”” paddingbottom=”” animation=”” ] \nThe cost of this 2-day course is $195 and includes all instruction\, handouts and USGS topographic maps (quadrangles) for the practice area.  Compasses will be available at the store at a 15% discount ($45.89).  The compasses we recommend and the ones which will be for sale are the Silva Ranger CL.  If you decide to bring your own compass or another brand/style\, please be sure it has a sighting mirror\, orienting arrow\, orienting lines\, clear base plate\, declination scale and a rotating dial/bezel. \n[divider colorstyle=”colorstyle_1″ dividerstyle=”style_1″ paddingtop=”” paddingbottom=”” animation=”” ] \nHosted by Klaus Gerhart  |  Instructor: Brian Swanson  Canyon Leader for Canyoneering California\, Basic Mountaineering and Navigation Instructor for Sierra Club’s Wilderness Travel Course.
URL:https://uberadventures.net/course/map-compass-navigation-4/
LOCATION:Uber Adventures\, 21901 Devonshire St\, Chatsworth\, CA\, 91311\, United States
CATEGORIES:Training
ATTACH;FMTTYPE=image/jpeg:https://uberadventures.net/wp-content/uploads/2015/07/Navigation-1100x619.jpg
END:VEVENT
BEGIN:VEVENT
DTSTART;VALUE=DATE:20171022
DTEND;VALUE=DATE:20171023
DTSTAMP:20260423T201701
CREATED:20170824T013252Z
LAST-MODIFIED:20220914T024512Z
UID:3614-1508630400-1508716799@uberadventures.net
SUMMARY:Advanced Canyoneering Course (ACE-L2) Los Angeles\, CA (one-day)
DESCRIPTION:Advanced Canyoneering Course (ACE-L2) Los Angeles\, CA (one-day)\n[nb: this is an expedited version of the 2-day Advanced Canyoneering Course (ACE-L2) … all skills will be covered in only 1 long-ish day\, but there will be a maximum of only 4 students!  I’ve had a request for this special class due to family and other weekend commitments.] \nThis Advanced Canyoneering Course (ACE-L2) is designed to provide students with the tools needed to jump to the next level of technical skill and become competent and safe canyoneers in ALL classes of canyons and touches on techniques and skills for Canyon Essentials (ACE-L3) and Canyon Rescue (ACE-L4). The practical experience that you gain during this course will give you the knowledge and confidence to tackle advanced canyon obstacles and many unexpected situations. This extremely popular curriculum has set the standard by which all other courses and curriculums may be judged. This course was designed primarily to meet the needs of recreational canyoneers\, but also forms the training foundation for those planning to seek certification as a Professional Canyon Guide (ACE-L5). \nPrerequisite: Uber Adventures’ 3-day Technical Canyoneering Course (ACE-L1) or Instructor permission. Since this Two-Day Advanced Canyoneering Course (ACE-L2) builds upon the skills and techniques presented in our 3-Day Technical Canyoneering Course (ACE-L1)\, you must have that training or extensive personal experience to be admitted to this class. \nThe topics covered include: \n\nEfficient Rope Management\nAdvanced Knots & Hitches\nRetrievable/Releasable Anchor Systems\nTransient Anchors\nArtificial Anchors Installation & Inspection\nAdvanced Rope Deployment Methods\nMulti-Pitch Rappels\nSimul Rappels\nAdvanced Rope Work for Traverses/Re-Belays\nGuided Rappels & Tensioning Systems\nDeviations/Re-Directs\n3 Ascending Methods & Converting to Rappel\nTransitioning on top of Ascend\nPothole Escape Techniques\nBasics of Mechanical Advantage\nGroup Dynamics and Leadership\n\nBasic personal gear is required for this course: Harness\, Helmet\, Rappel Device\, Safety Tether\, Multiple Locking HMS Carabiners\, 48″ sling/runner/footloop\, prusik loop. And any mechanical ascenders you would like to learn how to use (Ropeman II recommended … or Basic\, Micro\, etc .. bring them.)  We will provide Ropeman II’s for training/practice!  (Uber Adventures also offers a 10% discount off all gear purchased before/during/after this course!) \nTuition for this Advanced Technical Canyoneering Course (ACE-L2) is $395 per individual. A $100 non-refundable deposit will reserve your space in this class.  While the deposit is non-transferrable and non-refundable\, it may be put toward a future course in the same calendar year if 30 days notice are given\, cancelling your participation.  If 30 days notice are not given\, the remainder of the course fee will be due regardless of whether or not you attend the course.  Read more company/course policies here. \nIncluded with tuition is all instruction and all group Canyoneering equipment\, i.e.: ropes\, webbing\, rope bags\, rapides\, rigging\, etc. … and a Certificate of Completion!!  (If you’re traveling to Los Angeles for this course\, inquire about some cheap/free camping/crashing opportunities.) \nWarning: The activities in this course have been found to be addictive. Only those people prepared for ultimate adventure and nonstop fun need attend! \nInstructor: Klaus Gerhart – ACE (Association for Canyoneering Education) Master Instructor/Certified Guide\, American Canyon Guides Association (ACGA) Certified Guide\, Officer and Instructor\, Certified Tactical Rappel Master\, Wilderness First Responder\, Swiftwater Rescue Technician\, Technical Rope Rescue Technician\, Map & Compass Navigation Instructor\, trained Whitewater Rafting Guide\, former instructor for Sierra Club’s Wilderness Travel Course\, and a Master Educator for Leave No Trace wilderness ethics.
URL:https://uberadventures.net/course/advanced-canyoneering-course-one-day-ace-l2-los-angeles-ca/
LOCATION:Stoney Point Park\, 10900 Topanga Canyon Blvd\, Chatsworth\, CA\, 91311\, United States
CATEGORIES:Training
ATTACH;FMTTYPE=image/jpeg:https://uberadventures.net/wp-content/uploads/2015/05/Uber-Adventures-Canyoneering-S1.jpg
END:VEVENT
BEGIN:VEVENT
DTSTART;VALUE=DATE:20171028
DTEND;VALUE=DATE:20171029
DTSTAMP:20260423T201701
CREATED:20161206T183701Z
LAST-MODIFIED:20220914T023624Z
UID:2700-1509148800-1509235199@uberadventures.net
SUMMARY:Canyon Essentials Course (ACE-L3) Los Angeles\, CA (one-day)
DESCRIPTION:Canyon Essentials Course (ACE-L3) Los Angeles\, CA (one-day)\nImprove your skills and expand your ‘toolbox’!\n[nb: this is an expedited version of the 2-day Canyon Essentials Course (ACE-L3) … all skills will be covered in only 1 long-ish day\, but there will be a maximum of only 4 students!  I’ve had a request for this special class due to family and church commitments on Sundays.] \nUber Adventures’ Canyon Essentials Course (ACE-L3) is designed to prepare some for Leading Canyons\, and others for an improved toolbox of skills; specifically providing the next level of skills training through technical instruction and experiential practice.  While these tools are a vital component for any active canyoneer\, they are imperative for anyone leading rookies\, kids\, family or friends into a canyon.  This course provides strategic training for unexpected technical and group management challenges … when things don’t go quite as planned! \nWhile this course is designed primarily to meet the needs of recreational canyoneers\, it also serves as a bridge between the Advanced Canyoneering Course (ACE-L2) and the Canyon Rescue Course (ACE-L4)\, and forms the training foundation for those planning to seek certification as a Professional Canyon Guide (ACE-L5)! \nSkills covered include: \n\nAlternate Guided Rappel Options to keep people dry\nGroup Gear Choices & Distribution\, Pack Management\nStrand Isolation and Leapfrogging for speeding things up\nStatic Courtesy Rappels to make hard-starts easier\nDynamic Courtesy Rappels to make super-hard-starts safer and easier\nLowering Systems for emergencies and speed\nPre-Rigged Rappels and Rigging Kids for Rappel\nStatic & Dynamic Edge Protection to increase rope life\nDirect Top Belays\, Handlines and Sequencing\nPassing Knots on Ascend and Rappel\nConverting Static Block to Lowering System for assist or rescue\nIsolating In-Field Rope Damage (Core Shot)\nConstructing a Swiss Seat or Swami for rescue or gear failure\nRappelling on a Munter for emergencies\nAdvanced Friction Options\n\nPrerequisites: Since this course builds upon the skills and techniques presented in our Technical Canyoneering Course AND our Advanced Canyoneering Course\, we recommend that you’ve either taken both courses or have significant relevant personal experience before taking this class (please inquire if you’re unsure if this is the correct course for your current skill set). \nRequired Gear: Harness\, Helmet\, Rappel Device\, Figure 8 for Rigging\, Gloves\, 5-6 HMS Screwgate Carabiners\, 48″ Sling or Foot Loop\, Personal Safety Tether/Lanyard\, Prusik Loop\, Ascender(s)\, 25′ of webbing\, 20′ Cordelette-optional or Canyon Cordelette-optional (and appropriate shoes and pack). \nLogistics: This course will be held on Saturday … most of the course will be held at Stoney Point Park in Chatsworth\, with part of the class\, possibly held at Uber Adventures at 21901 Devonshire St\, Chatsworth\, CA 91311.  (If you are traveling to Los Angeles for this course\, inquire about cheap/free camping/crashing opportunities.) \nTuition: This Canyon Essentials Course (ACE-L3) is $395 per individual.  Tuition is non-refundable and non-transferrable but may be put toward a future course in the same calendar year if 30 days notice are given cancelling your participation in this course.  Feel free to post any questions on this event or send me a greeting/e-mail through meetup.  Included with tuition is: A CERTIFICATE OF COMPLETION!! \nInstructor:  Klaus Gerhart \nPlease read the course policies here:  Policies
URL:https://uberadventures.net/course/canyon-leader-course-ace-l3-los-angeles-ca-3/
LOCATION:Stoney Point Park\, 10900 Topanga Canyon Blvd\, Chatsworth\, CA\, 91311\, United States
CATEGORIES:Training
ATTACH;FMTTYPE=image/jpeg:https://uberadventures.net/wp-content/uploads/2015/02/Canyon-Leader-1100x619.jpg
END:VEVENT
END:VCALENDAR