BEGIN:VCALENDAR
VERSION:2.0
PRODID:-//Uber Adventures - ECPv6.15.20//NONSGML v1.0//EN
CALSCALE:GREGORIAN
METHOD:PUBLISH
X-ORIGINAL-URL:https://uberadventures.net
X-WR-CALDESC:Events for Uber Adventures
REFRESH-INTERVAL;VALUE=DURATION:PT1H
X-Robots-Tag:noindex
X-PUBLISHED-TTL:PT1H
BEGIN:VTIMEZONE
TZID:America/Los_Angeles
BEGIN:DAYLIGHT
TZOFFSETFROM:-0800
TZOFFSETTO:-0700
TZNAME:PDT
DTSTART:20170312T100000
END:DAYLIGHT
BEGIN:STANDARD
TZOFFSETFROM:-0700
TZOFFSETTO:-0800
TZNAME:PST
DTSTART:20171105T090000
END:STANDARD
BEGIN:DAYLIGHT
TZOFFSETFROM:-0800
TZOFFSETTO:-0700
TZNAME:PDT
DTSTART:20180311T100000
END:DAYLIGHT
BEGIN:STANDARD
TZOFFSETFROM:-0700
TZOFFSETTO:-0800
TZNAME:PST
DTSTART:20181104T090000
END:STANDARD
BEGIN:DAYLIGHT
TZOFFSETFROM:-0800
TZOFFSETTO:-0700
TZNAME:PDT
DTSTART:20190310T100000
END:DAYLIGHT
BEGIN:STANDARD
TZOFFSETFROM:-0700
TZOFFSETTO:-0800
TZNAME:PST
DTSTART:20191103T090000
END:STANDARD
END:VTIMEZONE
BEGIN:VEVENT
DTSTART;VALUE=DATE:20180803
DTEND;VALUE=DATE:20180806
DTSTAMP:20260423T044203
CREATED:20171223T070113Z
LAST-MODIFIED:20220914T022437Z
UID:4036-1533254400-1533513599@uberadventures.net
SUMMARY:Swiftwater Canyoneering Course - Kern County\, CA
DESCRIPTION:Swiftwater Canyoneering\, Class C Canyons – Kern County\, CA\nThis is the only course of its kind being taught in America!  Tuition includes camping\, elaborate handouts\, and a Certificate of Completion!  It will begin at 7am each day and will finish around 3:00pm on Friday and Saturday\, and at 5:00pm on Sunday. \nThis course will be challenging … and empowering!\nCanyons with strong current\, water volume and hydraulics pose dangers that dry canyons (Class ‘A’) and low-flow\, or standing-water canyons (Class ‘B’) do not.  This course provides skills\, knowledge and experiential training FOR exactly that type of environment\, IN exactly that type of environment.  We’ve taken the relevant skills from a Swiftwater Rescue Course and combined them with the relevant skills for Canyoneering in Class ‘C’ canyons and have produced this hybrid Swiftwater Canyoneering Course! \nYou must provide your own transportation to and from the location; you must provide your own PPE including your standard canyoneering gear (harness\, helmet\, hardware\, etc)\, AND a full wetsuit (4/3 preferred) and a Type 3 PFD.  Uber Adventures will provide the ropes and all training equipment.)** \nPrerequisites:  This course cannot be your first foray into the sport of canyoneering.  The skills and methods in this course are a supplement to previous training.  While we recommend that you have taken Uber Adventures Technical Canyoneering Course (ACE-L1) AND at least one of the Uber Adventures Advanced Canyoneering (ACE-L2)\, or Canyon Essentials (ACE-L3)\, or Canyon Rescue (ACE-L4) courses\, exceptions can be made by request if 1) you have taken a thorough series of other APPROVED courses\, or 2) you have SIGNIFICANT canyoneering experience\, or 3) you plead your case well! (exceptions must be approved by Uber Adventures … please contact us!) \nIN ADDITION to the above technical requirements\, you MUST BE A STRONG SWIMMER!  This course does not teach you how to swim. \nSkills\, Techniques\, Topics covered include: \n\nRope Management in Deep or Swiftwater\nAnchor Access and Challenges\nBelays & Rappel Methods\, Air Pockets\nSpecific Gear\, Handling & Utility\nTensioned Diagonals\, Tyrolean Traverses\nPotholes\, Deviations\, Ascending\nSlides & Jumps\, Surface Tension\, River Crossings\nHydrology: Holes\, Rapids\, Laminars\, Eddies\nDefensive/Aggressive Swimming\, Ferry Angles\nStrainers\, Sieves\, Entrapments\nRescue: Towed Victim\, Pendulum Belay\, Throw Bags/Rope\nCommunication\, Safety\, CFS\, LNT\nHypothermia\, Submersion\n\nTuition: This 3-Day Swiftwater Canyoneering Course is $595 per individual. A $100 non-refundable deposit will reserve your space in this class.  While the deposit is non-transferrable and non-refundable\, it may be put toward a future course in the same calendar year if 30 days notice are given\, canceling your participation.  If 30 days notice are not given\, the balance of $495 will still be due whether you attend the course or not.  Feel free to post any questions on this event or send me a greeting/e-mail through meetup. \nInstructors: In addition to Klaus Gerhart and Jason Marvin\, Uber Adventures is bringing in a dynamic Swiftwater Rescue Instructor\, Kevin Hawkins\, for his experience and expertise! \nRead company/course policies here.
URL:https://uberadventures.net/course/swiftwater-canyoneering-course-kern-county-ca-3/
LOCATION:Kern County\, CA\, 1410 CA-155\, Lake Isabella\, CA\, 92340\, United States
CATEGORIES:Training
ATTACH;FMTTYPE=image/jpeg:https://uberadventures.net/wp-content/uploads/2017/04/Swiftwater-Canyoneering-Course.jpg
END:VEVENT
BEGIN:VEVENT
DTSTART;VALUE=DATE:20180817
DTEND;VALUE=DATE:20180820
DTSTAMP:20260423T044203
CREATED:20171213T033755Z
LAST-MODIFIED:20220914T022427Z
UID:3927-1534464000-1534723199@uberadventures.net
SUMMARY:Technical Canyoneering Course (ACE-L1) Los Angeles\, CA
DESCRIPTION:3-Day Technical Canyoneering Course (ACE-L1) Los Angeles\, CA\n(…you’re invited to stay an extra day and descend a local canyon with us on Monday!) \nLearn to Canyoneer!\nCanyoneering and Canyoning are terms used to describe an adventure sport that combines hiking\, wading\, swimming\, jumping\, sliding\, boulder-hopping\, scrambling\, rock-climbing\, sometimes packrafting and always rappelling — often over waterfalls. \nCanyoneering is an emerging adventure sport in the US\, and has grown significantly in popularity over the past decade.  This sport has unique risks and requires a very specific set of technical skills to enjoy it safely.  Rock-climbing\, caving\, mountaineering and swift water training teach related skills for your ‘toolbox’\, but Canyoneering has become highly specialized\, and much of the gear and many of the techniques of Canyoneering are distinctly different from those of the other sports …and\, that’s where we come in! \nPrerequisite: None \nThis is a beginner to intermediate course which teaches the skills necessary to safely descend canyons as part of a group (being a competent participant and the knowledge to recognize and implement safe canyon practices). This course is designed to quickly get the beginner up-to-speed on basics\, to give both the rookie and intermediate canyoneer new tools for his/her toolbox\, and will help intermediate cayoneers refine their current skill set!  The topics and skills covered will include: \n\nKnots\, Bends and Hitches\nCanyon Rating System\nRules\, Ethics\, Style\, Communication and Courtesy\nSpecific Gear Choices\, Requirements\, Use and Care\nBelays\, Lowering and Handlines\nNatural\, Artificial\, Transient & Human Anchors\nStatic and Contingency Riggings\nRope Deployment\, Coiling\, Bagging and Etiquette\nRappelling Techniques & On-Rope Skills \n (Adding Friction Pre-rappel\, Mid-rappel\, Locking Off\, etc.)\nSpecialized Rappelling Techniques \n (Hard Starts\, Soft Starts\, Free-Hanging\, Over-Hanging\, etc.)\nBasic Climbing & Down Climbing Skills \n (Bridging\, Stemming\, Partner Assists\, Partner Captures\, etc.)\nSafety Checking and Basic Self-Rescue\nAnd\, within each of these broad subjects are a myriad of skills and tools.\n\nHost:  Klaus Gerhart          Instructors:  Klaus Gerhart and others. \nThe cost of this course is only $395. (The course fee is non-refundable\, but may be put toward a future class during the same calendar year if 30 days notice are given\, cancelling your participation in this course.  If 30 days notice are not given\, the remaining balance will be due whether you attend the course or not.)  If you’re traveling to Los Angeles for this course\, please inquire about cheap/free camping/crashing opportunities.  Please read more course/company policies here. \nThis class will begin on the evening of Day 1 (7:00pm-9:30pm) at the new HQ for UBER Adventures\, 21901 Devonshire St\, Chatsworth\, CA 91311\, with an orientation\, introduction\, and presentation emphasizing the canyon rating system\, gear\, weather\, canyon topography\, safety considerations\, and a rundown of the logistics for the rest of the course … and getting to know each other.  The class will reconvene on Days 2 and 3 (Saturday and Sunday) at Stoney Point Park in Chatsworth and will run from 7am-5:00pm both days. \nRequired gear for this course is a harness and a helmet (we can loan these out if you don’t have them … and we offer a 10% discount for any gear bought before/during/directly after the course\, and we’ll also be loaning out carabiners\, descenders\, tethers\, foot loops\, prussiks\, etc.  Feel free to borrow our gear for this course\, until you determine what your needs will be.
URL:https://uberadventures.net/course/technical-canyoneering-course-ace-l1-los-angeles-ca-18/
LOCATION:Uber Adventures\, 21901 Devonshire St\, Chatsworth\, CA\, 91311\, United States
CATEGORIES:Training
ATTACH;FMTTYPE=image/jpeg:https://uberadventures.net/wp-content/uploads/2015/05/Technical-Canyoneering-Course-1100x619.jpg
END:VEVENT
BEGIN:VEVENT
DTSTART;VALUE=DATE:20180824
DTEND;VALUE=DATE:20180827
DTSTAMP:20260423T044203
CREATED:20171223T070355Z
LAST-MODIFIED:20220914T022406Z
UID:4038-1535068800-1535327999@uberadventures.net
SUMMARY:Swiftwater Canyoneering Course - Kern County\, CA
DESCRIPTION:Swiftwater Canyoneering\, Class C Canyons – Kern County\, CA\nThis is the only course of its kind being taught in America!  Tuition includes camping\, elaborate handouts\, and a Certificate of Completion!  It will begin at 7am each day and will finish around 3:00pm on Friday and Saturday\, and at 5:00pm on Sunday. \nThis course will be challenging … and empowering!\nCanyons with strong current\, water volume and hydraulics pose dangers that dry canyons (Class ‘A’) and low-flow\, or standing-water canyons (Class ‘B’) do not.  This course provides skills\, knowledge and experiential training FOR exactly that type of environment\, IN exactly that type of environment.  We’ve taken the relevant skills from a Swiftwater Rescue Course and combined them with the relevant skills for Canyoneering in Class ‘C’ canyons and have produced this hybrid Swiftwater Canyoneering Course! \nYou must provide your own transportation to and from the location; you must provide your own PPE including your standard canyoneering gear (harness\, helmet\, hardware\, etc)\, AND a full wetsuit (4/3 preferred) and a Type 3 PFD.  Uber Adventures will provide the ropes and all training equipment.)** \nPrerequisites:  This course cannot be your first foray into the sport of canyoneering.  The skills and methods in this course are a supplement to previous training.  While we recommend that you have taken Uber Adventures Technical Canyoneering Course (ACE-L1) AND at least one of the Uber Adventures Advanced Canyoneering (ACE-L2)\, or Canyon Essentials (ACE-L3)\, or Canyon Rescue (ACE-L4) courses\, exceptions can be made by request if 1) you have taken a thorough series of other APPROVED courses\, or 2) you have SIGNIFICANT canyoneering experience\, or 3) you plead your case well! (exceptions must be approved by Uber Adventures … please contact us!) \nIN ADDITION to the above technical requirements\, you MUST BE A STRONG SWIMMER!  This course does not teach you how to swim. \nSkills\, Techniques\, Topics covered include: \n\nRope Management in Deep or Swiftwater\nAnchor Access and Challenges\nBelays & Rappel Methods\, Air Pockets\nSpecific Gear\, Handling & Utility\nTensioned Diagonals\, Tyrolean Traverses\nPotholes\, Deviations\, Ascending\nSlides & Jumps\, Surface Tension\, River Crossings\nHydrology: Holes\, Rapids\, Laminars\, Eddies\nDefensive/Aggressive Swimming\, Ferry Angles\nStrainers\, Sieves\, Entrapments\nRescue: Towed Victim\, Pendulum Belay\, Throw Bags/Rope\nCommunication\, Safety\, CFS\, LNT\nHypothermia\, Submersion\n\nTuition: This 3-Day Swiftwater Canyoneering Course is $595 per individual. A $100 non-refundable deposit will reserve your space in this class.  While the deposit is non-transferrable and non-refundable\, it may be put toward a future course in the same calendar year if 30 days notice are given\, canceling your participation.  If 30 days notice are not given\, the balance of $495 will still be due whether you attend the course or not.  Feel free to post any questions on this event or send me a greeting/e-mail through meetup. \nInstructors: In addition to Klaus Gerhart and Jason Marvin\, Uber Adventures is bringing in a dynamic Swiftwater Rescue Instructor\, Kevin Hawkins\, for his experience and expertise! \nRead company/course policies here.
URL:https://uberadventures.net/course/swiftwater-canyoneering-course-kern-county-ca-4/
LOCATION:Kern County\, CA\, 1410 CA-155\, Lake Isabella\, CA\, 92340\, United States
CATEGORIES:Training
ATTACH;FMTTYPE=image/jpeg:https://uberadventures.net/wp-content/uploads/2017/04/Swiftwater-Canyoneering-Course.jpg
END:VEVENT
END:VCALENDAR