BEGIN:VCALENDAR
VERSION:2.0
PRODID:-//Uber Adventures - ECPv6.15.20//NONSGML v1.0//EN
CALSCALE:GREGORIAN
METHOD:PUBLISH
X-ORIGINAL-URL:https://uberadventures.net
X-WR-CALDESC:Events for Uber Adventures
REFRESH-INTERVAL;VALUE=DURATION:PT1H
X-Robots-Tag:noindex
X-PUBLISHED-TTL:PT1H
BEGIN:VTIMEZONE
TZID:America/Los_Angeles
BEGIN:DAYLIGHT
TZOFFSETFROM:-0800
TZOFFSETTO:-0700
TZNAME:PDT
DTSTART:20170312T100000
END:DAYLIGHT
BEGIN:STANDARD
TZOFFSETFROM:-0700
TZOFFSETTO:-0800
TZNAME:PST
DTSTART:20171105T090000
END:STANDARD
BEGIN:DAYLIGHT
TZOFFSETFROM:-0800
TZOFFSETTO:-0700
TZNAME:PDT
DTSTART:20180311T100000
END:DAYLIGHT
BEGIN:STANDARD
TZOFFSETFROM:-0700
TZOFFSETTO:-0800
TZNAME:PST
DTSTART:20181104T090000
END:STANDARD
BEGIN:DAYLIGHT
TZOFFSETFROM:-0800
TZOFFSETTO:-0700
TZNAME:PDT
DTSTART:20190310T100000
END:DAYLIGHT
BEGIN:STANDARD
TZOFFSETFROM:-0700
TZOFFSETTO:-0800
TZNAME:PST
DTSTART:20191103T090000
END:STANDARD
END:VTIMEZONE
BEGIN:VEVENT
DTSTART;VALUE=DATE:20181005
DTEND;VALUE=DATE:20181008
DTSTAMP:20260423T014540
CREATED:20171213T034200Z
LAST-MODIFIED:20220914T021749Z
UID:3929-1538697600-1538956799@uberadventures.net
SUMMARY:Technical Canyoneering Course (ACE-L1) Los Angeles\, CA
DESCRIPTION:3-Day Technical Canyoneering Course (ACE-L1) Los Angeles\, CA\n(…you’re invited to stay an extra day and descend a local canyon with us on Monday!) \nLearn to Canyoneer!\nCanyoneering and Canyoning are terms used to describe an adventure sport that combines hiking\, wading\, swimming\, jumping\, sliding\, boulder-hopping\, scrambling\, rock-climbing\, sometimes packrafting and always rappelling — often over waterfalls. \nCanyoneering is an emerging adventure sport in the US\, and has grown significantly in popularity over the past decade.  This sport has unique risks and requires a very specific set of technical skills to enjoy it safely.  Rock-climbing\, caving\, mountaineering and swift water training teach related skills for your ‘toolbox’\, but Canyoneering has become highly specialized\, and much of the gear and many of the techniques of Canyoneering are distinctly different from those of the other sports …and\, that’s where we come in! \nPrerequisite: None \nThis is a beginner to intermediate course which teaches the skills necessary to safely descend canyons as part of a group (being a competent participant and the knowledge to recognize and implement safe canyon practices). This course is designed to quickly get the beginner up-to-speed on basics\, to give both the rookie and intermediate canyoneer new tools for his/her toolbox\, and will help intermediate cayoneers refine their current skill set!  The topics and skills covered will include: \n\nKnots\, Bends and Hitches\nCanyon Rating System\nRules\, Ethics\, Style\, Communication and Courtesy\nSpecific Gear Choices\, Requirements\, Use and Care\nBelays\, Lowering and Handlines\nNatural\, Artificial\, Transient & Human Anchors\nStatic and Contingency Riggings\nRope Deployment\, Coiling\, Bagging and Etiquette\nRappelling Techniques & On-Rope Skills \n (Adding Friction Pre-rappel\, Mid-rappel\, Locking Off\, etc.)\nSpecialized Rappelling Techniques \n (Hard Starts\, Soft Starts\, Free-Hanging\, Over-Hanging\, etc.)\nBasic Climbing & Down Climbing Skills \n (Bridging\, Stemming\, Partner Assists\, Partner Captures\, etc.)\nSafety Checking and Basic Self-Rescue\nAnd\, within each of these broad subjects are a myriad of skills and tools.\n\nHost:  Klaus Gerhart          Instructors:  Klaus Gerhart and others. \nThe cost of this course is only $395. (The course fee is non-refundable\, but may be put toward a future class during the same calendar year if 30 days notice are given\, cancelling your participation in this course.  If 30 days notice are not given\, the remaining balance will be due whether you attend the course or not.)  If you’re traveling to Los Angeles for this course\, please inquire about cheap/free camping/crashing opportunities.  Please read more course/company policies here. \nThis class will begin on the evening of Day 1 (7:00pm-9:30pm) at the new HQ for UBER Adventures\, 21901 Devonshire St\, Chatsworth\, CA 91311\, with an orientation\, introduction\, and presentation emphasizing the canyon rating system\, gear\, weather\, canyon topography\, safety considerations\, and a rundown of the logistics for the rest of the course … and getting to know each other.  The class will reconvene on Days 2 and 3 (Saturday and Sunday) at Stoney Point Park in Chatsworth and will run from 7am-5:00pm both days. \nRequired gear for this course is a harness and a helmet (we can loan these out if you don’t have them … and we offer a 10% discount for any gear bought before/during/directly after the course\, and we’ll also be loaning out carabiners\, descenders\, tethers\, foot loops\, prussiks\, etc.  Feel free to borrow our gear for this course\, until you determine what your needs will be.
URL:https://uberadventures.net/course/technical-canyoneering-course-ace-l1-los-angeles-ca-19/
LOCATION:Uber Adventures\, 21901 Devonshire St\, Chatsworth\, CA\, 91311\, United States
CATEGORIES:Training
ATTACH;FMTTYPE=image/jpeg:https://uberadventures.net/wp-content/uploads/2015/05/Technical-Canyoneering-Course-1100x619.jpg
END:VEVENT
BEGIN:VEVENT
DTSTART;VALUE=DATE:20181012
DTEND;VALUE=DATE:20181013
DTSTAMP:20260423T014540
CREATED:20171213T201334Z
LAST-MODIFIED:20220914T021736Z
UID:3978-1539302400-1539388799@uberadventures.net
SUMMARY:Canyon Essentials Course (ACE-L3) St George\, UT - 'Intensive'
DESCRIPTION:Canyon Essentials Course (ACE-L3) – ‘Intensive’=All skills presented in only 1 day (with fewer students)!\nImprove your skills and expand your ‘toolbox’!\nUber Adventures’ Canyon Essentials Course (ACE-L3) is designed to prepare some for organizing canyon trips\, and others for an improved toolbox of skills; specifically providing the next level of skills training through technical instruction and experiential practice.  While these tools are a vital component for any active canyoneer\, they are imperative for anyone leading rookies\, kids\, family or friends into a canyon.  This course provides strategic training for unexpected technical and group management challenges … when things don’t go quite as planned! \nWhile this course is designed primarily to meet the needs of recreational canyoneers\, it also serves as a bridge between the Advanced Canyoneering Course (ACE-L2) and the Canyon Rescue Course (ACE-L4)\, and forms the training foundation for those planning to seek certification as a Professional Canyon Guide (ACE-L5)! \nSkills covered include: \n\nGroup Gear Choices & Distribution\, Pack Management\nStrand Isolation and Leapfrogging for speeding things up\nStatic Courtesy Rappels to make hard-starts easier\nDynamic Courtesy Rappels to make super-hard-starts safer and easier\nLowering Systems for emergencies and speed\nPre-Rigged Rappels and Rigging Kids for Rappel\nStatic & Dynamic Edge Protection to increase rope life\nFirst Rappeller Belay options\, Handlines and Sequencing\nPassing Knots on Ascend and Rappel\nConverting Static Block to Lowering System for assist or rescue\nIsolating In-Field Rope Damage (Core Shot)\nConstructing a Swiss Seat for rescue or gear failure\nRappelling on a Munter for emergencies\nAdvanced Friction Settings and Long Rappel Belay Options\n\nPrerequisites: Since this course builds upon the skills and techniques presented in our Technical Canyoneering Course (ACE-L1) AND our Advanced Canyoneering Course (ACE-L2)\, we recommend that you’ve either taken both courses or have significant relevant personal experience before taking this class (please inquire if you’re unsure if this is the correct course for your current skill set). \nRequired Gear: Harness\, Helmet\, Rappel Device\, Figure 8 for Rigging\, Gloves\, 5-6 HMS Screwgate Carabiners\, 48″ Sling or Foot Loop\, Personal Safety Tether/Lanyard\, Prusik Loop\, Mechanical Ascender(s)\, 20′ Cordelette or Canyon Cordelette\, 20′ of Webbing (and appropriate shoes and pack). \nLogistics: This course will be held on one long day\, on location at the Virgin River Canyon Recreation Area.  We do not provide camping for this course/location\, however if you camp near us it is a mere $8/night. \nTuition: This Canyon Essentials Course (ACE-L3) is $395 per individual.  Tuition is non-refundable and non-transferrable but may be put toward a future course in the same calendar year if 30 days notice are given cancelling your participation in this course.  Feel free to post any questions on this event or send me a greeting/e-mail through meetup.  Included with tuition is: A CERTIFICATE OF COMPLETION!! \nInstructor:  Klaus Gerhart \nPlease read the course policies here:  Policies
URL:https://uberadventures.net/course/canyon-essentials-course-ace-l3-st-george-ut/
LOCATION:Virgin River Gorge\, 36.950773\, -113.797959\, St George\, UT\, United States
CATEGORIES:Training
ATTACH;FMTTYPE=image/jpeg:https://uberadventures.net/wp-content/uploads/2015/02/Canyon-Leader-1100x619.jpg
END:VEVENT
BEGIN:VEVENT
DTSTART;VALUE=DATE:20181013
DTEND;VALUE=DATE:20181015
DTSTAMP:20260423T014540
CREATED:20170330T034440Z
LAST-MODIFIED:20220914T021720Z
UID:3127-1539388800-1539561599@uberadventures.net
SUMMARY:Canyon Rescue Course (ACE-L4) St George\, UT - 'Intensive'
DESCRIPTION:Canyon Rescue Course (ACE-L4) St George\, UT – ‘Intensive’ = all skills presented in only 2 days.\nTrain Hard.  Plan Well.  Be Safe.\n                                                    …but accidents still happen.\nThis Canyon Rescue Course by Uber Adventures teaches the skills necessary to perform immediate\, in-canyon self-rescues\, partner rescues\, and how to assist with group emergencies … all with your groups’ normal rack-and-pack (the minimal gear you should carry on your harnesses and in your packs.) \nBoost your confidence and fill your mental toolbox with skills to handle technical emergencies. \nThis course not only teaches you the skills and methods necessary to execute a variety of rescue procedures\, but it provides the impetus for critical thinking through an emergency. \nHow would you help a canyoneer stuck on a rope?  How would you help an unconscious canyoneer stuck on a rope?  How quickly could you figure out how to convert a static block to a lowering system?  Could you haul a rappeller back to the top of a drop by yourself?  Have you ever been in a canyon\, assessing a fictional problem and felt helpless?  Are your responsibilities in a canyoneering event greater because you’re the leader/organizer?  Would you like to be a more valuable team member?  This course is vital for not only canyoneering leaders\, but also for conscientious recreational canyoneers who value their own safety and the safety of their party. \nWith the technical skills presented in this course\, you could prevent the need for calling in an expensive Search And Rescue team\, avoid putting rescuers at risk\, avoid spending the night in a canyon\, and continue a canyon descent with a non-critically injured teammate. \nPrerequisite:  Participants should have some advanced formal canyoneering-specific training.  This course builds on the skills taught in the Uber Adventures’ 3-day Technical Canyoneering Course (ACE-L1)\, the Advanced Canyoneering Course (ACE-L2) AND the Canyon Essentials Course (ACE-L3).  While we are not requiring the completion of each of those courses as a prerequisite\, those who have had advanced formal canyoneering training will find it easier to ‘keep-up’ with this curriculum.  If you’re not sure if this is the course for you\, please give us a call and we can discuss your skills and training. \nLogistics:  We do not provide camping at this course/location\, however if you camp near us it is a mere $8/night! \nThe topics and skills covered will include: \n\nKnots\, Rope Grabs & Progress Capture Methods\nAnchors\, Rigging & Friction Dynamics for Rescue\nMechanical Advantage and Haul Systems\nConverting Static Rigging to Haul or Lower\nAssisted Rappel & Tandem Rappel Techniques\nHero Rescue\, Balancier Lift\nRappelling on a Tensioned Rope\nGuide Ropes\, Tag Lines\, Belays\nCut-and-Lower Procedures\nSpecial Ascending Techniques for Rescue\nPick-Off Procedures Scenario\nConsiderations for musculoskeletal injuries\n\nInstructor: Klaus Gerhart \nRead company/course policies here.
URL:https://uberadventures.net/course/canyon-rescue-course-ace-l4-st-george-ut/
LOCATION:Virgin River Gorge\, 36.950773\, -113.797959\, St George\, UT\, United States
CATEGORIES:Training
ATTACH;FMTTYPE=image/jpeg:https://uberadventures.net/wp-content/uploads/2015/01/Canyon-Rescue-Course-Pic-for-Uber-Adventures-1100x620.jpg
END:VEVENT
BEGIN:VEVENT
DTSTART;VALUE=DATE:20181020
DTEND;VALUE=DATE:20181022
DTSTAMP:20260423T014540
CREATED:20171213T204701Z
LAST-MODIFIED:20220914T021651Z
UID:3991-1539993600-1540166399@uberadventures.net
SUMMARY:Advanced Canyoneering Course (ACE-L2) Las Vegas\, NV
DESCRIPTION:Advanced Canyoneering Course (ACE-L2)\nThis Advanced Canyoneering Course (ACE-L2) is designed to provide students with the tools needed to jump to the next level of technical skill and become competent and safe canyoneers in ALL classes of canyons and touches on techniques and skills for Canyon Essentials (ACE-L3) and Canyon Rescue (ACE-L4). The practical experience that you gain during this course will give you the knowledge and confidence to tackle advanced canyon obstacles and many unexpected situations. This extremely popular curriculum has set the standard by which all other courses and curriculums may be judged. This course was designed primarily to meet the needs of recreational canyoneers\, but also forms the training foundation for those planning to seek certification as a Professional Canyon Guide (ACE-L5). \nPrerequisite: Uber Adventures’ 3-day Technical Canyoneering Course (ACE-L1) or Instructor permission. Since this Two-Day Advanced Canyoneering Course (ACE-L2) builds upon the skills and techniques presented in our 3-Day Technical Canyoneering Course (ACE-L1)\, you must have that training or extensive personal experience to be admitted to this class. \nThe topics covered include: \n\nAdvanced Knots & Hitches\nRetrievable/Releasable Anchor Systems\nTransient Anchors\nArtificial Anchors Installation & Inspection\nMulti-Pitch Rappels\nSimul Rappels\nAdvanced Rope Work for Traverses\nGuided Rappels & Tensioning Systems\nDeviations/Re-Directs\n3 Ascending Methods & Converting to Rappel\nTransitioning on top of Ascend\nPothole Escape Techniques\nIntro to Mechanical Advantage\n\nBasic personal gear is required for this course: Harness\, Helmet\, Rappel Device\, Safety Tether\, Multiple Locking HMS Carabiners\, 48″ sling/runner/footloop\, prusik loop\, and any mechanical ascenders you would like to learn how to use (2X Wild Country Ropeman II’s or the Petzl Basic/MicroTraxion combo … bring ’em if you have ’em.)  We will provide Ropeman II’s for training/practice!  (Uber Adventures also offers a 10% discount off all gear purchased before/during/after this course!) \nTuition for this 2-Day Advanced Technical Canyoneering Course (ACE-L2) is $395 per individual. A $100 non-refundable deposit will reserve your space in this class.  While the deposit is non-transferrable and non-refundable\, it may be put toward a future course in the same calendar year if 30 days notice are given\, cancelling your participation.  If 30 days notice are not given\, the remainder of the course fee will be due regardless of whether or not you attend the course.  Read more company/course policies here. \nIncluded with tuition is all instruction and all group Canyoneering equipment\, i.e.: ropes\, webbing\, rope bags\, rapides\, rigging\, etc. … and a Certificate of Completion!!  \nWarning: The activities in this course have been found to be addictive. Only those people prepared for ultimate adventure and nonstop fun need attend! \nInstructor: Klaus Gerhart
URL:https://uberadventures.net/course/advanced-canyoneering-course-ace-l2-las-vegas-nv-2/
LOCATION:Lake Mead NRA\, 268 Lakeshore Rd\, Boulder City\, NV\, 89005\, United States
CATEGORIES:Training
ATTACH;FMTTYPE=image/jpeg:https://uberadventures.net/wp-content/uploads/2015/07/Advanced-Canyoneering2-1100x620.jpg
END:VEVENT
BEGIN:VEVENT
DTSTART;VALUE=DATE:20181026
DTEND;VALUE=DATE:20181029
DTSTAMP:20260423T014540
CREATED:20171213T030339Z
LAST-MODIFIED:20220914T021638Z
UID:3910-1540512000-1540771199@uberadventures.net
SUMMARY:Technical Canyoneering Course (ACE-L1) St George\, UT
DESCRIPTION:3-Day Technical Canyoneering Course (ACE-L1) – St George\, UT\nLearn to Canyoneer!\nCanyoneering and Canyoning are terms used to describe an adventure sport that combines hiking\, wading\, swimming\, jumping\, sliding\, boulder-hopping\, scrambling\, rock-climbing\, sometimes packrafting and always rappelling — often over waterfalls. \nCanyoneering is an emerging adventure sport in the US\, and has grown significantly in popularity over the past decade.  This sport has unique risks and requires a very specific set of technical skills to enjoy it safely.  Rock-climbing\, caving\, mountaineering and swift water training teach related skills for your ‘toolbox’\, but Canyoneering has become highly specialized\, and much of the gear and many of the techniques of Canyoneering are distinctly different from those of the other sports …and\, that’s where we come in! \nPrerequisite: None \nThis is a beginner to intermediate course which teaches the skills necessary to safely descend canyons as part of a group (being a competent participant and the knowledge to recognize and implement safe canyon practices). This course is designed to quickly get the beginner up-to-speed on basics\, to give both the rookie and intermediate canyoneer new tools for his/her toolbox\, and will help intermediate cayoneers refine their current skill set!  The topics and skills covered will include: \n\nKnots\, Bends and Hitches\nCanyon Rating System\nRules\, Ethics\, Style\, Communication and Courtesy\nSpecific Gear Choices\, Requirements\, Use and Care\nBelays\, Lowering and Handlines\nNatural\, Artificial\, Transient & Human Anchors\nStatic and Contingency Riggings\nRope Deployment\, Coiling\, Bagging and Etiquette\nRappelling Techniques & On-Rope Skills \n (Adding Friction Pre-rappel\, Mid-rappel\, Locking Off\, etc.)\nSpecialized Rappelling Techniques \n (Hard Starts\, Soft Starts\, Free-Hanging\, Over-Hanging\, etc.)\nBasic Climbing & Down Climbing Skills \n (Bridging\, Stemming\, Partner Assists\, Partner Captures\, etc.)\nSafety Checking and Basic Self-Rescue\nAnd\, within each of these broad subjects are a myriad of skills and tools.\n\nHost:  Klaus Gerhart          Instructors:  Klaus Gerhart\, and team \nThe cost of this course is only $395! (The course fee is non-refundable\, but may be put toward a future class during the same calendar year if 30 days notice are given\, cancelling your participation in this course.)  Please read more course/company policies here. \nThis class will begin at our campsite on the evening of Day 1 (7:00pm-9:30pm) and will reconvene each morning on Days 2 and 3 at 7:00am and will finish around 5:00pm each afternoon\, allowing for some hikes and sight-seeing in the area. You’ll need to get your own camping (always available for $8/night if staying near us)\, or to stay at a motel … your choice.  (Uber Adventures provides no camping or camping gear.) \nRequired gear for this course is a harness and a helmet (we can loan these out if you don’t have them … and we will offer a 10% discount for any gear bought before/during/directly after the course)\, and we’ll also be loaning out carabiners\, descenders\, tethers\, foot loops\, prussiks\, etc.  Feel free to borrow our gear for this course\, until you determine what your needs will be. \nHere’s a pic of our training site & the view from where we’ll be camping:
URL:https://uberadventures.net/course/technical-canyoneering-course-ace-l1-st-george-ut/
LOCATION:Virgin River Gorge\, 36.950773\, -113.797959\, St George\, UT\, United States
CATEGORIES:Training
ATTACH;FMTTYPE=image/jpeg:https://uberadventures.net/wp-content/uploads/2015/05/Technical-Canyoneering-Course-1100x619.jpg
END:VEVENT
END:VCALENDAR