BEGIN:VCALENDAR
VERSION:2.0
PRODID:-//Uber Adventures - ECPv6.15.20//NONSGML v1.0//EN
CALSCALE:GREGORIAN
METHOD:PUBLISH
X-WR-CALNAME:Uber Adventures
X-ORIGINAL-URL:https://uberadventures.net
X-WR-CALDESC:Events for Uber Adventures
REFRESH-INTERVAL;VALUE=DURATION:PT1H
X-Robots-Tag:noindex
X-PUBLISHED-TTL:PT1H
BEGIN:VTIMEZONE
TZID:America/Denver
BEGIN:DAYLIGHT
TZOFFSETFROM:-0700
TZOFFSETTO:-0600
TZNAME:MDT
DTSTART:20180311T090000
END:DAYLIGHT
BEGIN:STANDARD
TZOFFSETFROM:-0600
TZOFFSETTO:-0700
TZNAME:MST
DTSTART:20181104T080000
END:STANDARD
BEGIN:DAYLIGHT
TZOFFSETFROM:-0700
TZOFFSETTO:-0600
TZNAME:MDT
DTSTART:20190310T090000
END:DAYLIGHT
BEGIN:STANDARD
TZOFFSETFROM:-0600
TZOFFSETTO:-0700
TZNAME:MST
DTSTART:20191103T080000
END:STANDARD
BEGIN:DAYLIGHT
TZOFFSETFROM:-0700
TZOFFSETTO:-0600
TZNAME:MDT
DTSTART:20200308T090000
END:DAYLIGHT
BEGIN:STANDARD
TZOFFSETFROM:-0600
TZOFFSETTO:-0700
TZNAME:MST
DTSTART:20201101T080000
END:STANDARD
END:VTIMEZONE
BEGIN:VEVENT
DTSTART;TZID=America/Denver:20190125T190000
DTEND;TZID=America/Denver:20190127T170000
DTSTAMP:20260422T212935
CREATED:20181102T010624Z
LAST-MODIFIED:20181105T230127Z
UID:4595-1548442800-1548608400@uberadventures.net
SUMMARY:Technical Canyoneering Course (ACE-L1) Los Angeles\, CA
DESCRIPTION:3-Day Technical Canyoneering Course (ACE-L1) Los Angeles\, CA\n(…you’re invited to stay an extra day and descend a local canyon with us on Monday!) \nLearn to Canyoneer!\nCanyoneering and Canyoning are terms used to describe an adventure sport that combines hiking\, wading\, swimming\, jumping\, sliding\, boulder-hopping\, scrambling\, rock-climbing\, sometimes packrafting and always rappelling — often over waterfalls. \nCanyoneering is an emerging adventure sport in the US\, and has grown significantly in popularity over the past decade.  This sport has unique risks and requires a very specific set of technical skills to enjoy it safely.  Rock-climbing\, caving\, mountaineering and swift water training teach related skills for your ‘toolbox’\, but Canyoneering has become highly specialized\, and much of the gear and many of the techniques of Canyoneering are distinctly different from those of the other sports …and\, that’s where we come in! \nPrerequisite: None \nThis is a beginner to intermediate course which teaches the skills necessary to safely descend canyons as part of a group (being a competent participant and the knowledge to recognize and implement safe canyon practices). This course is designed to quickly get the beginner up-to-speed on basics\, to give both the rookie and intermediate canyoneer new tools for his/her toolbox\, and will help intermediate cayoneers refine their current skill set!  The topics and skills covered will include: \n\nKnots\, Bends and Hitches\nCanyon Rating System\nRules\, Ethics\, Style\, Communication and Courtesy\nSpecific Gear Choices\, Requirements\, Use and Care\nBelays\, Lowering and Handlines\nNatural\, Artificial\, Transient & Human Anchors\nStatic and Contingency Riggings\nRope Deployment\, Coiling\, Bagging and Etiquette\nRappelling Techniques & On-Rope Skills \n (Adding Friction Pre-rappel\, Mid-rappel\, Locking Off\, etc.)\nSpecialized Rappelling Techniques \n (Hard Starts\, Soft Starts\, Free-Hanging\, Over-Hanging\, etc.)\nBasic Climbing & Down Climbing Skills \n (Bridging\, Stemming\, Partner Assists\, Partner Captures\, etc.)\nSafety Checking and Basic Self-Rescue\nAnd\, within each of these broad subjects are a myriad of skills and tools.\n\nHost:  Klaus Gerhart          Instructors:  Klaus Gerhart and others. \nThe cost of this course is only $395. (The course fee is non-refundable\, but may be put toward a future class during the same calendar year if 30 days notice are given\, cancelling your participation in this course.  If 30 days notice are not given\, the remaining balance will be due whether you attend the course or not.)  Please read more course/company policies here. \nThis class will begin on the evening of Day 1 (7:00pm-9:30pm) in Chatsworth\, CA (exact location will be provided in a Logistics & Visitor Guide)\, with an orientation\, introduction\, and presentation emphasizing the canyon rating system\, gear\, weather\, canyon topography\, safety considerations\, and a rundown of the logistics for the rest of the course … and getting to know each other.  The class will reconvene on Days 2 and 3 at Stoney Point Park in Chatsworth and will run from 7am-5:00pm both days. \nRequired gear for this course is a harness and a helmet (we can loan these out if you don’t have them … and we offer a 10% discount for any gear bought before/during/directly after the course\, and we’ll also be loaning out carabiners\, descenders\, tethers\, foot loops\, prussiks\, etc.  Feel free to borrow our gear for this course\, until you determine what your need. \n**Since we do not loan out classroom gear for our recreational canyon descent on the Monday following this course\, consider purchasing our gear kit for this course\, and for your future in this sport!  https://uberadventures.net/product/basic-canyoneering-gear-kit/**
URL:https://uberadventures.net/course/technical-canyoneering-course-ace-l1-los-angeles-ca-22/
LOCATION:Stoney Point Park\, 10900 Topanga Canyon Blvd\, Chatsworth\, CA\, 91311\, United States
CATEGORIES:Training
ATTACH;FMTTYPE=image/jpeg:https://uberadventures.net/wp-content/uploads/2015/05/Technical-Canyoneering-Course-1100x619.jpg
END:VEVENT
BEGIN:VEVENT
DTSTART;TZID=America/Denver:20190131T070000
DTEND;TZID=America/Denver:20190201T170000
DTSTAMP:20260422T212935
CREATED:20181206T205606Z
LAST-MODIFIED:20181206T205606Z
UID:4872-1548918000-1549040400@uberadventures.net
SUMMARY:ACE Certified Guide Assessment (ACE-L5) Los Angeles\, CA
DESCRIPTION:ACE (Association for Canyoneering Education) Guide Assessment (ACE-L5)    (This Assessment is FULL!)\nThe ACGA (American Canyon Guide Association) was formed following the dissolution of the ACA in 2011 (though it has attempted reorganization several times since).  The ACGA was to become America’s first professional association for the industry of canyoneering. Four years later\, its volunteer Board of Directors and limited membership were been unable to host the guide assessments for which it was created and it dissolved. It is the goal of ACE to independently fill this void in certifying guides\, now and for our future. \nACE will provide:\n\nCertification for professional canyon guides\nStandardized curricula for canyoneering instructors\nSafety forums and tools for the canyoneering community\n\nOur Mission: To set an American Standard to which professional canyon guides and instructors can be held; to present a clear path to certification for professional canyon guides; to host professional canyon guide assessments; to develop standardized technical canyoneering curricula; and to develop relationships between land managers\, guide services\, and training providers. \nPlease find below the details on the process to become a certified guide\, and the benefits that accompany certification.  Even if guiding isn’t in your future\, the Assessment is great proof of your competence in the canyon environment.  While this program is new\, it is a strong one\, and one which has drawn on the successes and learned from the failures of a variety of programs\, both in the sport of canyoneering\, and many others. \nThe fee for the ACE Guide Assessment is $295; Registration and 3-year Membership to ACE is an additional $100\, payable directly to ACE. \nPerk to Uber Adventures students:  Uber Adventures will pay the $295 assessment fee for any candidate who has taken all four ACE-L1\, ACE-L2\, ACE-L3\, and ACE-L4 courses with Uber Adventures! \n[divider colorstyle=”colorstyle_1″ dividerstyle=”style_1″ paddingtop=”” paddingbottom=”” animation=”” ] \nWhat is the path to certification for professional canyon guide?\n\nBe proficient in all of the skills on the ACE Master Skills List.\nSign-up for and pass a 3-day ACE Guide Assessment.\nProvide a Canyoneering Resume showing your:\n\n(1) Training (dates\, courses\, organizations\, instructors) \n(2) Experience (primary leader of 30+ unique canyon descents with 6+ people each) \n(3) References (4 canyoneering professionals or recreational) \n[divider colorstyle=”colorstyle_1″ dividerstyle=”style_1″ paddingtop=”” paddingbottom=”” animation=”” ] \nWhere do I learn the skills on the ACE Master Skills List?\nThe best way to ensure you learn ALL the technical skills on the ACE Master Skills List is to take the series of four ACE curriculum courses (L1\, L2\, L3\, L4) offered by a variety of providers. Those 4 courses teach all the technical skills on the ACE Master Skills List. You could also learn on your own by attending any combination of courses\, workshops\, practices\, etc\, and then fill-in-the-blanks (the skills you haven’t learned yet) by reading books\, searching the internet\, or learning from friends. This isn’t always easy to do and the skills you learn may not be ideal. During an ACE Guide Assessment\, you will be evaluated on safety\, efficiency\, and canyoneering-specific methods of achieving a goal. Keep that in mind should you choose to learn canyoneering from anyone other than an ACE Certified Guide or ACE Instructor. \n[divider colorstyle=”colorstyle_1″ dividerstyle=”style_1″ paddingtop=”” paddingbottom=”” animation=”” ] \nDoes ACE recognize other professional canyon guide certifications?\nYes. Submit your request to have your existing certification recognized by ACE\, along with the name of the certifying entity\, the curriculum and/or assessment process you went through\, the date of your original certification and the date of your most recent re-certification. We will assess the program and make a determination. \nIf your certification is recognized\, you will need to register with ACE as a professional member\, pay your membership dues to ACE\, and recertify every 3 years with ACE. \n[divider colorstyle=”colorstyle_1″ dividerstyle=”style_1″ paddingtop=”” paddingbottom=”” animation=”” ] \nAre other training or certifications required to become an ACE Certified Guide? \nNo. We evaluate your technical proficiency and decision-making as they relate to the technical aspect of canyoneering\, and a general knowledge of navigation\, weather\, hydrology and group health. However\, Wilderness First Aid/CPR\, Wilderness First Responder\, Swiftwater Rescue\, Leave No Trace\, Meteorology\, Navigation and other relevant formal training may be required by your employer\, by land managers\, and by insurance providers. \n[divider colorstyle=”colorstyle_1″ dividerstyle=”style_1″ paddingtop=”” paddingbottom=”” animation=”” ] \nHow is the ACE Guide Assessment administered?\n\nIn 3 parts: Classroom & Written\, On-Rope Skills\, and Scenarios.\nCandidates will provide their own ropes and equipment for the ACE Guide Assessment unless otherwise indicated by the hosting entity.\nAll skills will be evaluated on safety\, best application\, and efficiency. ACE does not assess interpersonal skills\, teaching style or likability. Therefore\, these traits have no weight during an ACE Guide Assessment. Employers will make these determinations during their interview process.\nCandidates will be graded Pass or Fail\nIn the event of a Fail during the ACE Guide Assessment\, the candidate will be required to retake the entire Assessment at a future date.\n\n[divider colorstyle=”colorstyle_1″ dividerstyle=”style_1″ paddingtop=”” paddingbottom=”” animation=”” ] \nWhat are the benefits of Professional Membership?\n\nAll the benefits associated with a Sport membership\nPro-deals & discounts (regularly pursuing new relationships)\n\n      Imlay Canyon Gear \n      Liberty Mountain \n      Outdoor Prolink  \n\nRecognition\, relevance\, relationships\nBusiness listings\, Employer/Employment listings & assistance\nProfessional Membership is $100 for three years\, which includes registration\, the creation of a professional PROfile on ACECanyoneering.com\, mailing out the ACE-L5 Certified Guide certificate\, and the helmet stickers.\n\n[divider colorstyle=”colorstyle_1″ dividerstyle=”style_1″ paddingtop=”” paddingbottom=”” animation=”” ] \nHow long does my ACE-L5 Certified Guide certification last?\nThe ACE-L5 Certified Guide certification is valid for three years\, at which point ACE requires recertification. \nACE Master Skills List 
URL:https://uberadventures.net/course/ace-certified-guide-assessment-ace-l5-los-angeles-ca-5/
LOCATION:Uber Adventures\, 21901 Devonshire St\, Chatsworth\, CA\, 91311\, United States
CATEGORIES:Training
ATTACH;FMTTYPE=image/jpeg:https://uberadventures.net/wp-content/uploads/2015/11/ACE-Multi-for-Website4-scaled.jpg
END:VEVENT
END:VCALENDAR