BEGIN:VCALENDAR
VERSION:2.0
PRODID:-//Uber Adventures - ECPv6.15.20//NONSGML v1.0//EN
CALSCALE:GREGORIAN
METHOD:PUBLISH
X-WR-CALNAME:Uber Adventures
X-ORIGINAL-URL:https://uberadventures.net
X-WR-CALDESC:Events for Uber Adventures
REFRESH-INTERVAL;VALUE=DURATION:PT1H
X-Robots-Tag:noindex
X-PUBLISHED-TTL:PT1H
BEGIN:VTIMEZONE
TZID:America/Denver
BEGIN:DAYLIGHT
TZOFFSETFROM:-0700
TZOFFSETTO:-0600
TZNAME:MDT
DTSTART:20200308T090000
END:DAYLIGHT
BEGIN:STANDARD
TZOFFSETFROM:-0600
TZOFFSETTO:-0700
TZNAME:MST
DTSTART:20201101T080000
END:STANDARD
BEGIN:DAYLIGHT
TZOFFSETFROM:-0700
TZOFFSETTO:-0600
TZNAME:MDT
DTSTART:20210314T090000
END:DAYLIGHT
BEGIN:STANDARD
TZOFFSETFROM:-0600
TZOFFSETTO:-0700
TZNAME:MST
DTSTART:20211107T080000
END:STANDARD
BEGIN:DAYLIGHT
TZOFFSETFROM:-0700
TZOFFSETTO:-0600
TZNAME:MDT
DTSTART:20220313T090000
END:DAYLIGHT
BEGIN:STANDARD
TZOFFSETFROM:-0600
TZOFFSETTO:-0700
TZNAME:MST
DTSTART:20221106T080000
END:STANDARD
END:VTIMEZONE
BEGIN:VEVENT
DTSTART;VALUE=DATE:20211205
DTEND;VALUE=DATE:20211206
DTSTAMP:20260420T161415
CREATED:20210902T041703Z
LAST-MODIFIED:20210902T041703Z
UID:6667-1638662400-1638748799@uberadventures.net
SUMMARY:Canyon Essentials Course (ACE-L3) Los Angeles\, CA - 'Intensive'
DESCRIPTION:Canyon Essentials Course (ACE-L3) Los Angeles\, CA – ‘Intensive’=All skills presented in only 1 day (with fewer students)!     \nImprove your skills and expand your ‘toolbox’!\nUber Adventures’ Canyon Essentials Course (ACE-L3) is designed to prepare some for organizing canyon trips\, and others for an improved toolbox of skills; specifically providing the next level of skills training through technical instruction and experiential practice.  While these tools are a vital component for any active canyoneer\, they are imperative for anyone leading rookies\, kids\, family or friends into a canyon.  This course provides strategic training for unexpected technical and group management challenges … when things don’t go quite as planned! \nWhile this course is designed primarily to meet the needs of recreational canyoneers\, it also serves as a bridge between the Advanced Canyoneering Course (ACE-L2) and the Canyon Rescue Course (ACE-L4)\, and forms the training foundation for those planning to seek certification as a Professional Canyon Guide (ACE-L5)! \nSkills covered include: \n\nGroup Gear Choices & Distribution\, Pack Management\nStrand Isolation and Leapfrogging for speeding things up\nStatic Courtesy Rappels to make hard-starts easier\nDynamic Courtesy Rappels to make super-hard-starts safer and easier\nLowering Systems for emergencies and speed\nPre-Rigged Rappels and Rigging Kids for Rappel\nStatic & Dynamic Edge Protection to increase rope life\nFirst Rappeller Belay options\, Handlines and Sequencing\nPassing Knots on Ascend and Rappel\nConverting Static Block to Lowering System for assist or rescue\nIsolating In-Field Rope Damage (Core Shot)\nConstructing a Swiss Seat for rescue or gear failure\nRappelling on a Munter for emergencies\nAdvanced Friction Settings and Long Rappel Belay Options\n\nPrerequisites: Since this course builds upon the skills and techniques presented in our Technical Canyoneering Course (ACE-L1) AND our Advanced Canyoneering Course (ACE-L2)\, we recommend that you’ve either taken both courses or have significant relevant personal experience before taking this class (please inquire if you’re unsure if this is the correct course for your current skill set). \nRequired/Recommended Gear: Harness\, Helmet\, Rappel Device\, Figure 8 for Rigging\, Gloves\, 5-6 HMS Screwgate Carabiners\, 48″ Sling or Foot Loop\, Personal Safety Tether/Lanyard\, Prusik Loop\, Mechanical Ascender(s)\, 20′ of Webbing\, 20′ Cordelette or Canyon Cordelette (and appropriate shoes and pack). \nLogistics: This course will be held on one long day\, on location at Stoney Point Park. \nTuition: This Canyon Essentials Course (ACE-L3) is $395 per individual.  Tuition is non-refundable and non-transferrable but may be put toward a future course in the same calendar year if 30 days notice are given cancelling your participation in this course.  Feel free to post any questions on this event or send me a greeting/e-mail through meetup.  Included with tuition is: A CERTIFICATE OF COMPLETION!! \n \nInstructor:  Todd Kolberg \nPlease read the course policies here:  Policies
URL:https://uberadventures.net/course/canyon-essentials-course-ace-l3-los-angeles-ca-intensive-11/
LOCATION:Stoney Point Park\, 10900 Topanga Canyon Blvd\, Chatsworth\, CA\, 91311\, United States
CATEGORIES:Training
ATTACH;FMTTYPE=image/jpeg:https://uberadventures.net/wp-content/uploads/2015/02/Canyon-Leader-1100x619.jpg
END:VEVENT
BEGIN:VEVENT
DTSTART;VALUE=DATE:20211211
DTEND;VALUE=DATE:20211213
DTSTAMP:20260420T161415
CREATED:20210902T033028Z
LAST-MODIFIED:20210902T033028Z
UID:6655-1639180800-1639353599@uberadventures.net
SUMMARY:Technical Canyoneering Course (ACE-L1) Los Angeles\, CA
DESCRIPTION:Technical Canyoneering Course (ACE-L1) – Los Angeles\, CA\nLearn to Canyoneer!     \nCanyoneering and Canyoning are terms used to describe an adventure sport that combines hiking\, wading\, swimming\, jumping\, sliding\, boulder-hopping\, scrambling\, rock-climbing\, sometimes packrafting and always rappelling — often over waterfalls. \nCanyoneering is an emerging adventure sport in the US\, and has grown significantly in popularity over the past decade.  This sport has unique risks and requires a very specific set of technical skills to enjoy it safely.  Rock-climbing\, caving\, mountaineering and swift water training teach related skills for your ‘toolbox’\, but Canyoneering has become highly specialized\, and much of the gear and many of the techniques of Canyoneering are distinctly different from those of the other sports …and\, that’s where we come in! \nPrerequisite: None \nThis is a beginner to intermediate course which teaches the skills necessary to safely descend canyons as part of a group (being a competent participant and the knowledge to recognize and implement safe canyon practices). This course is designed to quickly get the beginner up-to-speed on basics\, to give both the rookie and intermediate canyoneer new tools for his/her toolbox\, and will help intermediate cayoneers refine their current skill set!  The topics and skills covered will include: \n\nKnots\, Bends and Hitches\nCanyon Rating System\nRules\, Ethics\, Style\, Communication and Courtesy\nSpecific Gear Choices\, Requirements\, Use and Care\nBelays\, Lowering and Handlines\nNatural\, Artificial\, Transient & Human Anchors\nStatic and Contingency Riggings\nRope Deployment\, Coiling\, Bagging and Etiquette\nRappelling Techniques & On-Rope Skills \n (Adding Friction Pre-rappel\, Mid-rappel\, Locking Off\, etc.)\nSpecialized Rappelling Techniques \n (Hard Starts\, Soft Starts\, Free-Hanging\, Over-Hanging\, etc.)\nBasic Climbing & Down Climbing Skills \n (Bridging\, Stemming\, Partner Assists\, Partner Captures\, etc.)\nSafety Checking and Basic Self-Rescue\nAnd\, within each of these broad subjects are a myriad of skills and tools.\n\nInstructors:  Todd Kolberg\, and team \nThe cost of this course is only $395! (The course fee is non-refundable\, but may be put toward a future class during the same calendar year if 30 days notice are given\, cancelling your participation in this course.)  Please read more course/company policies here. \nRequired gear for this course is a harness and a helmet (we can loan these out if you don’t have them) and we’ll also be loaning out carabiners\, descenders\, tethers\, foot loops\, prussiks\, etc.  Feel free to borrow our gear for this course\, until you determine what your needs will be. \n**Though we have currently suspended gear sales\, feel free to use the following list to help you choose your gear for your future in this sport!  https://uberadventures.net/product/basic-canyoneering-gear-kit/** \nIf you have Monday free\, ask about joining us for a recreational descent of a local canyon to put your new skills to use!  We can’t always host these\, but we do it when we can!  
URL:https://uberadventures.net/course/technical-canyoneering-course-ace-l1-los-angeles-ca-41/
LOCATION:Stoney Point Park\, 10900 Topanga Canyon Blvd\, Chatsworth\, CA\, 91311\, United States
CATEGORIES:Training
ATTACH;FMTTYPE=image/jpeg:https://uberadventures.net/wp-content/uploads/2015/05/Technical-Canyoneering-Course-1100x619.jpg
END:VEVENT
END:VCALENDAR