BEGIN:VCALENDAR
VERSION:2.0
PRODID:-//Uber Adventures - ECPv6.15.20//NONSGML v1.0//EN
CALSCALE:GREGORIAN
METHOD:PUBLISH
X-WR-CALNAME:Uber Adventures
X-ORIGINAL-URL:https://uberadventures.net
X-WR-CALDESC:Events for Uber Adventures
REFRESH-INTERVAL;VALUE=DURATION:PT1H
X-Robots-Tag:noindex
X-PUBLISHED-TTL:PT1H
BEGIN:VTIMEZONE
TZID:America/Los_Angeles
BEGIN:DAYLIGHT
TZOFFSETFROM:-0800
TZOFFSETTO:-0700
TZNAME:PDT
DTSTART:20210314T100000
END:DAYLIGHT
BEGIN:STANDARD
TZOFFSETFROM:-0700
TZOFFSETTO:-0800
TZNAME:PST
DTSTART:20211107T090000
END:STANDARD
BEGIN:DAYLIGHT
TZOFFSETFROM:-0800
TZOFFSETTO:-0700
TZNAME:PDT
DTSTART:20220313T100000
END:DAYLIGHT
BEGIN:STANDARD
TZOFFSETFROM:-0700
TZOFFSETTO:-0800
TZNAME:PST
DTSTART:20221106T090000
END:STANDARD
BEGIN:DAYLIGHT
TZOFFSETFROM:-0800
TZOFFSETTO:-0700
TZNAME:PDT
DTSTART:20230312T100000
END:DAYLIGHT
BEGIN:STANDARD
TZOFFSETFROM:-0700
TZOFFSETTO:-0800
TZNAME:PST
DTSTART:20231105T090000
END:STANDARD
END:VTIMEZONE
BEGIN:VEVENT
DTSTART;VALUE=DATE:20220709
DTEND;VALUE=DATE:20220711
DTSTAMP:20260420T045025
CREATED:20211111T063452Z
LAST-MODIFIED:20220913T071353Z
UID:6790-1657324800-1657497599@uberadventures.net
SUMMARY:Canyon Rescue Course (ACE-L4) Los Angeles\, CA - 'Intensive'
DESCRIPTION:Canyon Rescue Course (ACE-L4) Los Angeles\, CA – ‘Intensive’=All skills presented in only 2 days!     \nTrain Hard.  Plan Well.  Be Safe.\n                                                    …but accidents still happen.\nThis Canyon Rescue Course by Uber Adventures teaches the skills necessary to perform immediate\, in-canyon self-rescues\, partner rescues\, and how to assist with group emergencies … all with your groups’ normal rack-and-pack (the minimal gear you should carry on your harnesses and in your packs.) \nBoost your confidence and fill your mental toolbox with skills to handle technical emergencies. \nThis course not only teaches you the skills and methods necessary to execute a variety of rescue procedures\, but it provides the impetus for critical thinking through an emergency. \nHow would you help a canyoneer stuck on a rope?  How would you help an unconscious canyoneer stuck on a rope?  How quickly could you figure out how to convert a static block to a lowering system?  Could you haul a rappeller back to the top of a drop by yourself?  Have you ever been in a canyon\, assessing a fictional problem and felt helpless?  Are your responsibilities in a canyoneering event greater because you’re the leader/organizer?  Would you like to be a more valuable team member?  This course is vital for not only canyoneering leaders\, but also for conscientious recreational canyoneers who value their own safety and the safety of their party. \nWith the technical skills presented in this course\, you could prevent the need for calling in an expensive Search And Rescue team\, avoid putting rescuers at risk\, avoid spending the night in a canyon\, and continue a canyon descent with a non-critically injured teammate. \nPrerequisite:  Participants should have some advanced formal canyoneering-specific training.  This course builds on the skills taught in the Uber Adventures’ 3-day Technical Canyoneering Course (ACE-L1)\, the Advanced Canyoneering Course (ACE-L2) AND the Canyon Essentials Course (ACE-L3).  While we are not requiring the completion of each of those courses as a prerequisite\, those who have had advanced formal canyoneering training will find it easier to ‘keep-up’ with this curriculum.  If you’re not sure if this is the course for you\, please give us a call and we can discuss your skills and training. \nThe topics and skills covered will include: \n\nKnots\, Rope Grabs & Progress Capture Methods\nAnchors\, Rigging & Friction Dynamics for Rescue\nMechanical Advantage and Haul Systems\nConverting Static Rigging to Haul or Lower\nAssisted Rappel & Tandem Rappel Techniques\nHero Rescue\, Balancier Lift\nRappelling on a Tensioned Rope\nGuide Ropes\, Tag Lines\, Belays\nCut-and-Lower Procedures\nSpecial Ascending Techniques for Rescue\nPick-Off Procedures Scenario\nConsiderations for musculoskeletal injuries\n\n \nInstructor: Todd Kolberg \nRead company/course policies here.
URL:https://uberadventures.net/course/canyon-rescue-course-ace-l4-los-angeles-ca-intensive-14/
LOCATION:Stoney Point Park\, 10900 Topanga Canyon Blvd\, Chatsworth\, CA\, 91311\, United States
CATEGORIES:Training
ATTACH;FMTTYPE=image/jpeg:https://uberadventures.net/wp-content/uploads/2015/01/Canyon-Rescue-Course-Pic-for-Uber-Adventures-1100x620.jpg
END:VEVENT
BEGIN:VEVENT
DTSTART;VALUE=DATE:20220716
DTEND;VALUE=DATE:20220718
DTSTAMP:20260420T045025
CREATED:20220309T023252Z
LAST-MODIFIED:20220913T071445Z
UID:7082-1657929600-1658102399@uberadventures.net
SUMMARY:Advanced Canyoneering Course (ACE-L2) Boulder\, CO
DESCRIPTION:Advanced Canyoneering Course (ACE-L2) Boulder\, CO  \nThis Advanced Canyoneering Course (ACE-L2) is designed to provide students with the tools needed to jump to the next level of technical skill and become competent and safe canyoneers in ALL classes of canyons and touches on techniques and skills for Canyon Essentials (ACE-L3) and Canyon Rescue (ACE-L4). The practical experience that you gain during this course will give you the knowledge and confidence to tackle advanced canyon obstacles and many unexpected situations. This extremely popular curriculum has set the standard by which all other courses and curriculums may be judged. This course was designed primarily to meet the needs of recreational canyoneers\, but also forms the training foundation for those planning to seek certification as a Professional Canyon Guide (ACE-L5). \nPrerequisite: Uber Adventures’ Technical Canyoneering Course (ACE-L1) or Instructor permission. Since this Two-Day Advanced Canyoneering Course (ACE-L2) builds upon the skills and techniques presented in our Technical Canyoneering Course (ACE-L1)\, you must have that training or extensive personal experience to be admitted to this class. \nThe topics covered include: \n\nEfficient Rope Management\nAdvanced Knots & Hitches\nRetrievable/Releasable Anchor Systems\nTransient Anchors\nArtificial Anchors Installation & Inspection\nMulti-Pitch Rappels\nSimul Rappels\nAdvanced Rope Work for Traverse\nGuided Rappels & Tensioning Systems\nDeviations/Re-Directs\n3 Ascending Methods & Converting to Rappel (Changeovers)\nPothole Escape Techniques\nBasics of Mechanical Advantage\n\nBasic personal gear is required for this course: Harness\, Helmet\, Rappel Device\, Safety Tether\, Multiple Locking HMS Carabiners\, 48″ sling/runner/footloop\, prusik loop\, and any mechanical ascenders you would like to learn how to use (Wild Country Ropeman II\, Kong Duck\, Petzl Basic\, Petzl Microtraxion\, CT Roll’n’Lock\, etc .. bring them.)  We will provide the use of Ropeman II’s for training/practice!  (Uber Adventures also offers a 10% discount off all gear purchased before/during/after this course!) \nTuition for this 2-Day Advanced Technical Canyoneering Course (ACE-L2) is $395 per individual. A $100 non-refundable deposit will reserve your space in this class.  While the deposit is non-transferrable and non-refundable\, it may be put toward a future course in the same calendar year if 30 days notice are given\, cancelling your participation.  If 30 days notice are not given\, the remainder of the course fee will be due regardless of whether or not you attend the course.  Read more company/course policies here. \nIncluded with tuition is all instruction and use of all group Canyoneering equipment\, i.e.: ropes\, webbing\, rope bags\, rapides\, rigging\, etc. … and a Certificate of Completion!! \nWarning: The activities in this course have been found to be addictive. Only those people prepared for ultimate adventure and nonstop fun need attend! \nSCHEDULE: This class will run from 7am to 5 or 6pm on Saturday and Sunday with as much hands on learning as possible. \nInstructor: AJ Pastula – ACE L1-L4 Instructor; ACE L5 Guide \n  
URL:https://uberadventures.net/course/advanced-canyoneering-course-ace-l2-boulder-co-6/
LOCATION:CA
CATEGORIES:Training
ATTACH;FMTTYPE=image/jpeg:https://uberadventures.net/wp-content/uploads/2015/07/Advanced-Canyoneering2-1100x620.jpg
END:VEVENT
BEGIN:VEVENT
DTSTART;VALUE=DATE:20220729
DTEND;VALUE=DATE:20220801
DTSTAMP:20260420T045025
CREATED:20220309T022711Z
LAST-MODIFIED:20220913T072042Z
UID:7075-1659052800-1659311999@uberadventures.net
SUMMARY:Technical Canyoneering Course (ACE-L1) Boulder\, CO
DESCRIPTION:3-Day Technical Canyoneering Course (ACE-L1) Boulder\, CO\nLearn to Canyoneer!     \nCanyoneering and Canyoning are terms used to describe an adventure sport that combines hiking\, wading\, swimming\, jumping\, sliding\, boulder-hopping\, scrambling\, rock-climbing\, sometimes packrafting and always rappelling — often over waterfalls. \nCanyoneering is an emerging adventure sport in the US\, and has grown significantly in popularity over the past decade.  This sport has unique risks and requires a very specific set of technical skills to enjoy it safely.  Rock-climbing\, caving\, mountaineering and swift water training teach related skills for your ‘toolbox’\, but Canyoneering has become highly specialized\, and much of the gear and many of the techniques of Canyoneering are distinctly different from those of the other sports …and\, that’s where we come in! \nPrerequisite: None \nThis is a beginner to intermediate course which teaches the skills necessary to safely descend canyons as part of a group (being a competent participant and the knowledge to recognize and implement safe canyon practices). This course is designed to quickly get the beginner up-to-speed on basics\, to give both the rookie and intermediate canyoneer new tools for his/her toolbox\, and will help intermediate cayoneers refine their current skill set!  The topics and skills covered will include: \n\nKnots\, Bends and Hitches\nCanyon Rating System\nRules\, Ethics\, Style\, Communication and Courtesy\nSpecific Gear Choices\, Requirements\, Use and Care\nBelays\, Lowering and Handlines\nNatural\, Artificial\, Transient & Human Anchors\nStatic and Contingency Riggings\nRope Deployment\, Coiling\, Bagging and Etiquette\nRappelling Techniques & On-Rope Skills \n(Adding Friction Pre-rappel\, Mid-rappel\, Locking Off\, etc.)\nSpecialized Rappelling Techniques \n(Hard Starts\, Soft Starts\, Free-Hanging\, Over-Hanging\, etc.)\nBasic Climbing & Down Climbing Skills \n(Bridging\, Stemming\, Partner Assists\, Partner Captures\, etc.)\nSafety Checking and Basic Self-Rescue\nAnd\, within each of these broad subjects are a myriad of skills and tools.\n\nInstructor:  AJ Pastula\, \nThe cost of this course is $395. (The course fee is non-refundable\, but may be put toward a future class during the same calendar year if 30 days notice are given\, cancelling your participation in this course.  If 30 days notice are not given\, the remaining balance will be due whether you attend the course or not.)  Please read more course/company policies here. \nSCHEDULE: This class will begin on Friday evening (meeting at 6:00pm to around 9pm.) An e-mail with specific directions\, and a link\, will be sent about a week or two prior to the class. Friday will be an orientation and introduction with an emphasis on the canyon rating system\, gear\, weather\, canyon topography … and getting to know each other. The course will reconvene on Saturday and Sunday at the same location and will run from 7am to 5 or 6pm both days with hands on learning. \nRequired gear for this course is a harness and a helmet (We will loan these out if you don’t have them)\, and we’ll also be loaning out carabiners\, descenders\, tethers\, foot loops\, prussiks\, etc.  Feel free to borrow our gear for this course\, until you determine what your needs will be.
URL:https://uberadventures.net/course/technical-canyoneering-course-ace-l1-boulder-co-11/
LOCATION:CA
CATEGORIES:Training
ATTACH;FMTTYPE=image/jpeg:https://uberadventures.net/wp-content/uploads/2015/05/Technical-Canyoneering-Course-1100x619.jpg
END:VEVENT
END:VCALENDAR