BEGIN:VCALENDAR
VERSION:2.0
PRODID:-//Uber Adventures - ECPv6.15.20//NONSGML v1.0//EN
CALSCALE:GREGORIAN
METHOD:PUBLISH
X-ORIGINAL-URL:https://uberadventures.net
X-WR-CALDESC:Events for Uber Adventures
REFRESH-INTERVAL;VALUE=DURATION:PT1H
X-Robots-Tag:noindex
X-PUBLISHED-TTL:PT1H
BEGIN:VTIMEZONE
TZID:America/Los_Angeles
BEGIN:DAYLIGHT
TZOFFSETFROM:-0800
TZOFFSETTO:-0700
TZNAME:PDT
DTSTART:20140309T100000
END:DAYLIGHT
BEGIN:STANDARD
TZOFFSETFROM:-0700
TZOFFSETTO:-0800
TZNAME:PST
DTSTART:20141102T090000
END:STANDARD
BEGIN:DAYLIGHT
TZOFFSETFROM:-0800
TZOFFSETTO:-0700
TZNAME:PDT
DTSTART:20150308T100000
END:DAYLIGHT
BEGIN:STANDARD
TZOFFSETFROM:-0700
TZOFFSETTO:-0800
TZNAME:PST
DTSTART:20151101T090000
END:STANDARD
BEGIN:DAYLIGHT
TZOFFSETFROM:-0800
TZOFFSETTO:-0700
TZNAME:PDT
DTSTART:20160313T100000
END:DAYLIGHT
BEGIN:STANDARD
TZOFFSETFROM:-0700
TZOFFSETTO:-0800
TZNAME:PST
DTSTART:20161106T090000
END:STANDARD
END:VTIMEZONE
BEGIN:VEVENT
DTSTART;VALUE=DATE:20151007
DTEND;VALUE=DATE:20151012
DTSTAMP:20260421T153646
CREATED:20150505T133857Z
LAST-MODIFIED:20220914T041603Z
UID:567-1444176000-1444607999@uberadventures.net
SUMMARY:UBERFest: North Wash 2015
DESCRIPTION:UBERFest: North Wash 2015\nWho wants to go to Hanksville to do some awesome Utah canyons!? \nThe area around Hanksville is riddled with canyoneering opportunities:  The Irish skinnies (Lucky Charms\, Blarney’s\, Shillelagh\, Leprechauns\, Shenanigans)\, the Hogs (Boss Hog\, Hogwarts\, Merry Piglet\, Miss Piggy\, Razorback)\, the Poison Springs (Arscenic\, Constrychnine\, Monoxide\, Slideanide)\, Maidenwater\, Fooling Around\, the Black Hole of White Canyon (if you like long\, dark\, deep\, cold swims … AND I DO!)\, Morocco\, and Woody (a canyon with multiple pothole escapes!) \n \nYou MUST be a graduate of an UBER Adventures canyoneering course to participate on this event (in addition to those who are already approved to attend our events).  If you are not sure how this requirement affects you\, please drop me a note before you sign-up!  There are several Uber Adventures 3-day Technical Canyoneering Courses/Advanced Courses/Leader Courses/Rescue Courses between now and October.  Get the training if you’d like to join! \nTrain Hard – Plan Well – Be Safe … and HAVE FUN!\n \nLOCATION:  Hanksville\, UT is an 11 hour drive from Los Angeles (plus a 1-hour time change).  All of the canyons I’ve done in the area are loops or lollipops … I don’t recall needing a car shuttle for any of them.  So Carpool! \nCAMPING/LODGING:  We’re staying at a commercial campground in Hanksville\, UT\, and I’ve reserved an enormous grassy group area for us and our tents.  There are very few picnic tables and I don’t recall much in the way of BBQ’s .. so if you can bring a folding table and camp chairs\, you should!  You are not permitted to sleep in your vehicle as it is a shared parking area.  If you are bringing an RV or Trailer\, please make your own reservation at:  Duke’s \nThis commercial campground is located in the middle of Hanksville and has showers and a restaurant.  Hanksville also has Stan’s Burger Shack (awesome!)\, gas stations and cel service! \nMost other rendezvous’ camp a half hour away at the SandThrax campground (which is free and closer to the canyons)\, but there’s no cel service\, no water\, no toilets\, no reservations\, no picnic tables\, deep sand ingress and it’s in a floodable area with a serious noseeum problem.  So\, we’re camping like Angelenos .. showers\, accessible and connected! \nWeather:  Average Highs in the 70’s and Lows in the 30’s \n– Sign-up HERE! –\n 
URL:https://uberadventures.net/course/uberfest-north-wash-2015/
LOCATION:North Wash\, UT\, Hanksville\, UT
CATEGORIES:UBERFests
ATTACH;FMTTYPE=image/jpeg:https://uberadventures.net/wp-content/uploads/2015/05/Uberfest-Northwash-1100-e1435172907852.jpg
END:VEVENT
END:VCALENDAR