BEGIN:VCALENDAR
VERSION:2.0
PRODID:-//Uber Adventures - ECPv6.15.20//NONSGML v1.0//EN
CALSCALE:GREGORIAN
METHOD:PUBLISH
X-ORIGINAL-URL:https://uberadventures.net
X-WR-CALDESC:Events for Uber Adventures
REFRESH-INTERVAL;VALUE=DURATION:PT1H
X-Robots-Tag:noindex
X-PUBLISHED-TTL:PT1H
BEGIN:VTIMEZONE
TZID:America/Los_Angeles
BEGIN:DAYLIGHT
TZOFFSETFROM:-0800
TZOFFSETTO:-0700
TZNAME:PDT
DTSTART:20200308T100000
END:DAYLIGHT
BEGIN:STANDARD
TZOFFSETFROM:-0700
TZOFFSETTO:-0800
TZNAME:PST
DTSTART:20201101T090000
END:STANDARD
BEGIN:DAYLIGHT
TZOFFSETFROM:-0800
TZOFFSETTO:-0700
TZNAME:PDT
DTSTART:20210314T100000
END:DAYLIGHT
BEGIN:STANDARD
TZOFFSETFROM:-0700
TZOFFSETTO:-0800
TZNAME:PST
DTSTART:20211107T090000
END:STANDARD
BEGIN:DAYLIGHT
TZOFFSETFROM:-0800
TZOFFSETTO:-0700
TZNAME:PDT
DTSTART:20220313T100000
END:DAYLIGHT
BEGIN:STANDARD
TZOFFSETFROM:-0700
TZOFFSETTO:-0800
TZNAME:PST
DTSTART:20221106T090000
END:STANDARD
END:VTIMEZONE
BEGIN:VEVENT
DTSTART;VALUE=DATE:20210522
DTEND;VALUE=DATE:20210524
DTSTAMP:20260423T044329
CREATED:20191114T055224Z
LAST-MODIFIED:20220914T012205Z
UID:5362-1621641600-1621814399@uberadventures.net
SUMMARY:ACE Certified Guide Assessment (ACE-L5) Moab\, UT
DESCRIPTION:ACE (Association for Canyoneering Education) Guide Assessment (ACE-L5) Moab\, UT    \nThe ACGA (American Canyon Guide Association) was formed following the dissolution of the ACA in 2011 (though it has attempted reorganization several times since).  The ACGA was to become America’s first professional association for the industry of canyoneering. Four years later\, its volunteer Board of Directors and limited membership were been unable to host the guide assessments for which it was created and it dissolved. It is the goal of ACE to independently fill this void in certifying guides\, now and for our future. \nACE provides:\n\nCertification for professional canyon guides\nStandardized curricula for canyoneering instructors\nSafety forums and tools for the canyoneering community\n\nOur Mission: To set an American Standard to which professional canyon guides and instructors can be held; to present a clear path to certification for professional canyon guides; to host professional canyon guide assessments; to develop standardized technical canyoneering curricula; and to develop relationships between land managers\, guide services\, and training providers. \nPlease find below the details on the process to become a certified guide\, and the benefits that accompany certification.  Even if guiding isn’t in your future\, the Assessment is great proof of your competence in the canyon environment.  While this program is new\, it is a strong one\, and one which has drawn on the successes and learned from the failures of a variety of programs\, both in the sport of canyoneering\, and many others. \nThe fee for the ACE Guide Assessment is $395; Registration ($295) and 3-year Membership to ACE ($100). \n\nWhat is the path to certification for professional canyon guide?\n\nBe proficient in all of the skills on the ACE Master Skills List.\nSign-up for and pass a 2-day ACE Guide Assessment.\nProvide a Canyoneering Resume showing your:\n\n(1) Training (dates\, courses\, organizations\, instructors) \n(2) Experience (primary leader of 30+ unique canyon descents with 6+ people each) \n(3) References (4 canyoneering professionals or recreational) \n\nWhere do I learn the skills on the ACE Master Skills List?\nThe best way to ensure you learn ALL the technical skills on the ACE Master Skills List is to take the series of four ACE curriculum courses (L1\, L2\, L3\, L4) offered by a variety of providers. Those 4 courses teach all the technical skills on the ACE Master Skills List. You could also learn on your own by attending any combination of courses\, workshops\, practices\, etc\, and then fill-in-the-blanks (the skills you haven’t learned yet) by reading books\, searching the internet\, or learning from friends. This isn’t always easy to do and the skills you learn may not be ideal. During an ACE Guide Assessment\, you will be evaluated on safety\, efficiency\, and canyoneering-specific methods of achieving a goal. Keep that in mind should you choose to learn canyoneering from anyone other than an ACE Certified Guide or ACE Instructor. \n\nDoes ACE recognize other professional canyon guide certifications?\nYes. Submit your request to have your existing certification recognized by ACE\, along with the name of the certifying entity\, the curriculum and/or assessment process you went through\, the date of your original certification and the date of your most recent re-certification. We will assess the program and make a determination. \nIf your certification is recognized\, you will need to register with ACE as a professional member\, pay your membership dues to ACE\, and recertify every 3 years with ACE. \n\nAre other training or certifications required to become an ACE Certified Guide? \nNo. We evaluate your technical proficiency and decision-making as they relate to the technical aspect of canyoneering\, and a general knowledge of navigation\, weather\, hydrology and group health. However\, Wilderness First Aid/CPR\, Wilderness First Responder\, Swiftwater Rescue\, Leave No Trace\, Meteorology\, Navigation and other relevant formal training may be required by your employer\, by land managers\, and by insurance providers. \n\nHow is the ACE Guide Assessment administered?\n\nIn 4 parts: Written\, Skills\, Exercises\, and Scenarios.\nCandidates will provide their own ropes and equipment for the ACE Guide Assessment unless otherwise indicated by the hosting entity.\nAll skills will be evaluated on safety\, best application\, and efficiency. ACE does not assess interpersonal skills\, teaching style or likability. Therefore\, these traits have no weight during an ACE Guide Assessment. Employers will make these determinations during their interview process.\nCandidates will be graded Pass or Fail\nIn the event of a Fail during the ACE Guide Assessment\, the candidate will be required to retake the entire Assessment at a future date.\n\n\nWhat are the benefits of Professional Membership?\n\nAll the benefits associated with a Sport membership\nPro-deals & discounts (regularly pursuing new relationships)\n\n      Imlay Canyon Gear \n      Liberty Mountain \n      Outdoor Prolink  \n\nRecognition\, relevance\, relationships\nBusiness listings\, Employer/Employment listings & assistance\nProfessional Membership is $100 for three years\, which includes registration\, the creation of a professional PROfile on ACECanyoneering.com\, mailing out the ACE-L5 Certified Guide certificate\, and the helmet stickers.\n\n\nHow long does my ACE-L5 Certified Guide certification last?\nThe ACE-L5 Certified Guide certification is valid for three years\, at which point ACE requires recertification. \nACE Master Skills List 
URL:https://uberadventures.net/course/ace-certified-guide-assessment-ace-l5-moab-ut-3/
LOCATION:Lions Park\, 1770 US-191\, Moab\, UT\, 84532\, United States
CATEGORIES:Training
ATTACH;FMTTYPE=image/jpeg:https://uberadventures.net/wp-content/uploads/2015/11/ACE-Multi-for-Website4-scaled.jpg
END:VEVENT
END:VCALENDAR