BEGIN:VCALENDAR
VERSION:2.0
PRODID:-//Uber Adventures - ECPv6.15.20//NONSGML v1.0//EN
CALSCALE:GREGORIAN
METHOD:PUBLISH
X-WR-CALNAME:Uber Adventures
X-ORIGINAL-URL:https://uberadventures.net
X-WR-CALDESC:Events for Uber Adventures
REFRESH-INTERVAL;VALUE=DURATION:PT1H
X-Robots-Tag:noindex
X-PUBLISHED-TTL:PT1H
BEGIN:VTIMEZONE
TZID:America/Los_Angeles
BEGIN:DAYLIGHT
TZOFFSETFROM:-0800
TZOFFSETTO:-0700
TZNAME:PDT
DTSTART:20190310T100000
END:DAYLIGHT
BEGIN:STANDARD
TZOFFSETFROM:-0700
TZOFFSETTO:-0800
TZNAME:PST
DTSTART:20191103T090000
END:STANDARD
BEGIN:DAYLIGHT
TZOFFSETFROM:-0800
TZOFFSETTO:-0700
TZNAME:PDT
DTSTART:20200308T100000
END:DAYLIGHT
BEGIN:STANDARD
TZOFFSETFROM:-0700
TZOFFSETTO:-0800
TZNAME:PST
DTSTART:20201101T090000
END:STANDARD
BEGIN:DAYLIGHT
TZOFFSETFROM:-0800
TZOFFSETTO:-0700
TZNAME:PDT
DTSTART:20210314T100000
END:DAYLIGHT
BEGIN:STANDARD
TZOFFSETFROM:-0700
TZOFFSETTO:-0800
TZNAME:PST
DTSTART:20211107T090000
END:STANDARD
END:VTIMEZONE
BEGIN:VEVENT
DTSTART;VALUE=DATE:20200404
DTEND;VALUE=DATE:20200406
DTSTAMP:20260425T205437
CREATED:20200303T053905Z
LAST-MODIFIED:20220914T015338Z
UID:5852-1585958400-1586131199@uberadventures.net
SUMMARY:Technical Canyoneering Course (ACE-L1) Las Vegas\, NV
DESCRIPTION:2-Day Technical Canyoneering Course (ACE-L1) – Las Vegas\, NV\nLearn to Canyoneer!     \nCanyoneering and Canyoning are terms used to describe an adventure sport that combines hiking\, wading\, swimming\, jumping\, sliding\, boulder-hopping\, scrambling\, rock-climbing\, sometimes packrafting and always rappelling — often over waterfalls. \nCanyoneering is an emerging adventure sport in the US\, and has grown significantly in popularity over the past decade.  This sport has unique risks and requires a very specific set of technical skills to enjoy it safely.  Rock-climbing\, caving\, mountaineering and swift water training teach related skills for your ‘toolbox’\, but Canyoneering has become highly specialized\, and much of the gear and many of the techniques of Canyoneering are distinctly different from those of the other sports …and\, that’s where we come in! \nPrerequisite: None \nThis is a beginner to intermediate course which teaches the skills necessary to safely descend canyons as part of a group (being a competent participant and the knowledge to recognize and implement safe canyon practices). This course is designed to quickly get the beginner up-to-speed on basics\, to give both the rookie and intermediate canyoneer new tools for his/her toolbox\, and will help intermediate cayoneers refine their current skill set!  The topics and skills covered will include: \n\nKnots\, Bends and Hitches\nCanyon Rating System\nRules\, Ethics\, Style\, Communication and Courtesy\nSpecific Gear Choices\, Requirements\, Use and Care\nBelays\, Lowering and Handlines\nNatural\, Artificial\, Transient & Human Anchors\nStatic and Contingency Riggings\nRope Deployment\, Coiling\, Bagging and Etiquette\nRappelling Techniques & On-Rope Skills \n (Adding Friction Pre-rappel\, Mid-rappel\, Locking Off\, etc.)\nSpecialized Rappelling Techniques \n (Hard Starts\, Soft Starts\, Free-Hanging\, Over-Hanging\, etc.)\nBasic Climbing & Down Climbing Skills \n (Bridging\, Stemming\, Partner Assists\, Partner Captures\, etc.)\nSafety Checking and Basic Self-Rescue\nAnd\, within each of these broad subjects are a myriad of skills and tools.\n\nHost:  Klaus Gerhart          Instructors:  Klaus Gerhart\, and team \nThe cost of this course is only $395! (The course fee is non-refundable\, but may be put toward a future class during the same calendar year if 30 days notice are given\, cancelling your participation in this course.)  Please read more course/company policies here. \nThis class will begin at the Boulder Beach Picnic Area near the Boulder Beach Campground at 7:00am and will finish around 5:00pm each afternoon. You’ll need to arrange for your own camping or lodging  and transportation for this course. \nRequired gear for this course is a harness and a helmet (we can loan these out if you don’t have them … and we will offer a 10% discount for any gear bought before/during/directly after the course\, and we’ll also be loaning out carabiners\, descenders\, tethers\, foot loops\, prussiks\, etc.  Feel free to borrow our gear for this course\, until you determine what your needs will be. \n**Check out our gear kit for a recommendation for gear for your future in this sport!  https://uberadventures.net/product/basic-canyoneering-gear-kit/**
URL:https://uberadventures.net/course/technical-canyoneering-course-ace-l1-las-vegas-nv-16/
LOCATION:Lake Mead NRA\, 268 Lakeshore Rd\, Boulder City\, NV\, 89005\, United States
CATEGORIES:Training
ATTACH;FMTTYPE=image/jpeg:https://uberadventures.net/wp-content/uploads/2015/05/Technical-Canyoneering-Course-1100x619.jpg
END:VEVENT
BEGIN:VEVENT
DTSTART;VALUE=DATE:20200418
DTEND;VALUE=DATE:20200420
DTSTAMP:20260425T205437
CREATED:20191220T205049Z
LAST-MODIFIED:20220914T015325Z
UID:5428-1587168000-1587340799@uberadventures.net
SUMMARY:Technical Canyoneering Course (ACE-L1) Prescott\, AZ (postponed)
DESCRIPTION:Technical Canyoneering Course (ACE-L1) – Prescott\, AZ (postponed)\nGovernment/Community restrictions have forced us to postpone this course; please check our calendar for alternate dates and locations.  If you’re currently signed-up for this course\, please choose an alternate course date/location and let us know your choice so we can forward your deposit/payments! \nLearn to Canyoneer!     \nCanyoneering and Canyoning are terms used to describe an adventure sport that combines hiking\, wading\, swimming\, jumping\, sliding\, boulder-hopping\, scrambling\, rock-climbing\, sometimes packrafting and always rappelling — often over waterfalls. \nCanyoneering is an emerging adventure sport in the US\, and has grown significantly in popularity over the past decade.  This sport has unique risks and requires a very specific set of technical skills to enjoy it safely.  Rock-climbing\, caving\, mountaineering and swift water training teach related skills for your ‘toolbox’\, but Canyoneering has become highly specialized\, and much of the gear and many of the techniques of Canyoneering are distinctly different from those of the other sports …and\, that’s where we come in! \nPrerequisite: None \nThis is a beginner to intermediate course which teaches the skills necessary to safely descend canyons as part of a group (being a competent participant and the knowledge to recognize and implement safe canyon practices). This course is designed to quickly get the beginner up-to-speed on basics\, to give both the rookie and intermediate canyoneer new tools for his/her toolbox\, and will help intermediate cayoneers refine their current skill set!  The topics and skills covered will include: \n\nKnots\, Bends and Hitches\nCanyon Rating System\nRules\, Ethics\, Style\, Communication and Courtesy\nSpecific Gear Choices\, Requirements\, Use and Care\nBelays\, Lowering and Handlines\nNatural\, Artificial\, Transient & Human Anchors\nStatic and Contingency Riggings\nRope Deployment\, Coiling\, Bagging and Etiquette\nRappelling Techniques & On-Rope Skills \n (Adding Friction Pre-rappel\, Mid-rappel\, Locking Off\, etc.)\nSpecialized Rappelling Techniques \n (Hard Starts\, Soft Starts\, Free-Hanging\, Over-Hanging\, etc.)\nBasic Climbing & Down Climbing Skills \n (Bridging\, Stemming\, Partner Assists\, Partner Captures\, etc.)\nSafety Checking and Basic Self-Rescue\nAnd\, within each of these broad subjects are a myriad of skills and tools.\n\nCurriculum by:  Klaus Gerhart          Instructor:  Cole Anderson \nThe cost of this course is only $395! (The course fee is non-refundable\, but may be put toward a future class during the same calendar year if 30 days notice are given\, cancelling your participation in this course.)  Please read more course/company policies here. \nRequired gear for this course is a harness and a helmet (we will loan these out if you don’t have them) … and we will offer a 10% discount for any gear bought before/after the course\, and we’ll also be loaning out carabiners\, descenders\, tethers\, foot loops\, prussiks\, etc.  Feel free to borrow our gear for this course\, until you determine what your needs will be. \n**Check out our gear kit for our recommendations for this sport!  https://uberadventures.net/product/basic-canyoneering-gear-kit/**
URL:https://uberadventures.net/course/technical-canyoneering-course-ace-l1-prescott-az-2/
LOCATION:Watson Lake\, 3101 Watson Lake Drive\, Prescott\, AZ\, 86301\, United States
CATEGORIES:Training
ATTACH;FMTTYPE=image/jpeg:https://uberadventures.net/wp-content/uploads/2015/05/Technical-Canyoneering-Course-1100x619.jpg
END:VEVENT
BEGIN:VEVENT
DTSTART;VALUE=DATE:20200425
DTEND;VALUE=DATE:20200427
DTSTAMP:20260425T205437
CREATED:20191220T205348Z
LAST-MODIFIED:20220914T015313Z
UID:5430-1587772800-1587945599@uberadventures.net
SUMMARY:Technical Canyoneering Course (ACE-L1) Moab\, UT (postponed)
DESCRIPTION:Technical Canyoneering Course (ACE-L1) – Moab\, UT (postponed)\nGovernment/Community restrictions have forced us to postpone this course; please check our calendar for alternate dates and locations.  If you’re currently signed-up for this course\, please choose an alternate course date/location and let us know your choice so we can forward your deposit/payments! \nLearn to Canyoneer!     \nCanyoneering and Canyoning are terms used to describe an adventure sport that combines hiking\, wading\, swimming\, jumping\, sliding\, boulder-hopping\, scrambling\, rock-climbing\, sometimes packrafting and always rappelling — often over waterfalls. \nCanyoneering is an emerging adventure sport in the US\, and has grown significantly in popularity over the past decade.  This sport has unique risks and requires a very specific set of technical skills to enjoy it safely.  Rock-climbing\, caving\, mountaineering and swift water training teach related skills for your ‘toolbox’\, but Canyoneering has become highly specialized\, and much of the gear and many of the techniques of Canyoneering are distinctly different from those of the other sports …and\, that’s where we come in! \nPrerequisite: None \nThis is a beginner to intermediate course which teaches the skills necessary to safely descend canyons as part of a group (being a competent participant and the knowledge to recognize and implement safe canyon practices). This course is designed to quickly get the beginner up-to-speed on basics\, to give both the rookie and intermediate canyoneer new tools for his/her toolbox\, and will help intermediate cayoneers refine their current skill set!  The topics and skills covered will include: \n\nKnots\, Bends and Hitches\nCanyon Rating System\nRules\, Ethics\, Style\, Communication and Courtesy\nSpecific Gear Choices\, Requirements\, Use and Care\nBelays\, Lowering and Handlines\nNatural\, Artificial\, Transient & Human Anchors\nStatic and Contingency Riggings\nRope Deployment\, Coiling\, Bagging and Etiquette\nRappelling Techniques & On-Rope Skills \n (Adding Friction Pre-rappel\, Mid-rappel\, Locking Off\, etc.)\nSpecialized Rappelling Techniques \n (Hard Starts\, Soft Starts\, Free-Hanging\, Over-Hanging\, etc.)\nBasic Climbing & Down Climbing Skills \n (Bridging\, Stemming\, Partner Assists\, Partner Captures\, etc.)\nSafety Checking and Basic Self-Rescue\nAnd\, within each of these broad subjects are a myriad of skills and tools.\n\nInstructors:  Cort Wright\, Robert \nThe cost of this course is only $395! (The course fee is non-refundable\, but may be put toward a future class during the same calendar year if 30 days notice are given\, cancelling your participation in this course.)  Please read more course/company policies here.  You’ll need to arrange for your own camping/lodging\, and to provide your own transportation to and from Lion’s Park in Moab.  The course runs from 7am-5pm on both Saturday and Sunday; the optional recreational canyon descent on Monday would likely run from 7:30am-2:30pm. \nRequired gear for this course is a harness and a helmet (we can loan these out if you don’t have them\, and we’ll also be loaning out carabiners\, descenders\, tethers\, foot loops\, prussiks\, etc.)  Feel free to borrow our gear for this course\, until you determine what your needs will be. \n**We do not loan out classroom harnesses\, helmets or gloves for our recreational canyon descent on the Monday following this course. Make arrangements to purchase your own!  We are happy to loan out the hardware for the Monday canyon if you haven’t had the chance to purchase your own.  And\, even though we might not have all the gear you need in our online store\, here’s a link to a listing of what you should purchase for yourself:  https://uberadventures.net/product/basic-canyoneering-gear-kit/** \nIf you have Monday free\, stay and join us for a recreational descent of a local canyon to put your new skills to use (weather permitting)!
URL:https://uberadventures.net/course/technical-canyoneering-course-ace-l1-moab-ut-7/
LOCATION:Lions Park\, 1770 US-191\, Moab\, UT\, 84532\, United States
CATEGORIES:Training
ATTACH;FMTTYPE=image/jpeg:https://uberadventures.net/wp-content/uploads/2015/05/Technical-Canyoneering-Course-1100x619.jpg
END:VEVENT
END:VCALENDAR